BEGIN:VCALENDAR
VERSION:2.0
PRODID:-//eco2000srl - ECPv6.15.17.1//NONSGML v1.0//EN
CALSCALE:GREGORIAN
METHOD:PUBLISH
X-WR-CALNAME:eco2000srl
X-ORIGINAL-URL:https://www.eco2000srl.it
X-WR-CALDESC:Eventi per eco2000srl
REFRESH-INTERVAL;VALUE=DURATION:PT1H
X-Robots-Tag:noindex
X-PUBLISHED-TTL:PT1H
BEGIN:VTIMEZONE
TZID:UTC
BEGIN:STANDARD
TZOFFSETFROM:+0000
TZOFFSETTO:+0000
TZNAME:UTC
DTSTART:20180101T000000
END:STANDARD
END:VTIMEZONE
BEGIN:VEVENT
DTSTART;TZID=UTC:20190319T000000
DTEND;TZID=UTC:20190319T000000
DTSTAMP:20260421T004521
CREATED:20200321T175229Z
LAST-MODIFIED:20200321T175229Z
UID:148-1552953600-1552953600@www.eco2000srl.it
SUMMARY:Corso di Formazione Addetti Alla Conduzione Di  Carrelli Elevatori Semoventi Con Conducente a Bordo
DESCRIPTION:Gli addetti alla Conduzione di Carrelli Elevatori Semoventi con Coducente a Bordo (Muletto) devono frequentare formazione specifica teorico – pratica della durata complessiva di 12 ore secondo quanto previsto dall’Accordo Stato\, Regioni e Province autonome Repertorio atti n. 53/CSR del 22 Febbraio 2012 ed in attuazione a quanto previsto dagli Art. 37 del D.Lgs. 81/08 e s.m.i.\nDate svolgimento: \nModulo giuridico – normativo (1 ora) e Modulo Tecnico (7 ore) \n[checklist type=”eg. checked\, dotted\, arrowed” margin_bottom=”no”] \n\nGiovedì 18 Luglio 2019 dalle ore 08.30 alle ore 12.30\nVenerdì 19 Luglio 2019 dalle ore 08.30 alle ore 12.30\n\n[/checklist] \nModulo pratico (4 ore) \n[checklist type=”eg. checked\, dotted\, arrowed” margin_bottom=”no”] \n\nVenerdì 19 Luglio 2019 dalle ore 14.00 alle ore 18.00\n\n[/checklist] \nPer iscrizioni compilare ed inviare il Modulo corso base carrellisti 18-19 Luglio 2019
URL:https://www.eco2000srl.it/formazione/corso-di-formazione-addetti-alla-conduzione-di-carrelli-elevatori-semoventi-con-conducente-a-bordo/
CATEGORIES:Corso
END:VEVENT
END:VCALENDAR