BEGIN:VCALENDAR
VERSION:2.0
PRODID:-//eco2000srl - ECPv6.15.17.1//NONSGML v1.0//EN
CALSCALE:GREGORIAN
METHOD:PUBLISH
X-WR-CALNAME:eco2000srl
X-ORIGINAL-URL:https://www.eco2000srl.it
X-WR-CALDESC:Eventi per eco2000srl
REFRESH-INTERVAL;VALUE=DURATION:PT1H
X-Robots-Tag:noindex
X-PUBLISHED-TTL:PT1H
BEGIN:VTIMEZONE
TZID:UTC
BEGIN:STANDARD
TZOFFSETFROM:+0000
TZOFFSETTO:+0000
TZNAME:UTC
DTSTART:20160101T000000
END:STANDARD
END:VTIMEZONE
BEGIN:VEVENT
DTSTART;TZID=UTC:20170427T000000
DTEND;TZID=UTC:20170427T000000
DTSTAMP:20260422T144855
CREATED:20200321T175209Z
LAST-MODIFIED:20200321T175209Z
UID:76-1493251200-1493251200@www.eco2000srl.it
SUMMARY:Corso Antincendio per Attività a Basso e Medio Rischio
DESCRIPTION:DESTINATARI Datori di lavoro o lavoratori designati dell’attuazione delle misure di prevenzione incendi ed evacuazione \nCLASSIFICAZIONE \n\nRischio di incendio BASSO (4 ore di formazione): attività dove sono presenti sostanze scarsamente infiammabili o vi è bassa probabilità di sviluppo di focolai e non sussistono probabilità di propagazione delle fiamme; quindi (indicativamente) le attività NON soggette al rilascio del C.P.I.\nRischio di incendio MEDIO (8 ore di formazione): attività generalmente soggette al rilascio del Certificato di Prevenzione Incendi (C.P.I.) da parte dei Vigili del Fuoco\, non ricomprese fra quelle ad alto rischio; cantieri con detenzione e impiego di sostanze infiammabili e uso di fiamme libere (esclusi quelli interamente all’aperto). E’ prevista una esercitazione sull’uso di estintori portatili\, naspi e idranti.\n\nE’ prevista l’ istruzione sull’uso di estintori portatili avvalendosi di sussidi audiovisivi. \nOBIETTIVI DEL CORSO \nAssolvere all’obbligo di formazione imposto al datore di lavoro per la formazione degli addetti antincendio (Art. 18 c.1 lettera l) D.Lgs 81/08 e Art. 37 com.9 D.Lgs 81/08 e s.m.i. – Conoscenza delle procedure e degli interventi per la prevenzione incendi\, la protezione antincendio\, procedure da adottare in caso di incendio. \nDATE SVOLGIMENTO \nBasso Rischio \n\nLunedì 08 Maggio 2017 dalle ore 08.30 alle ore 12.30\n\nMedio Rischio \n[checklist type=”eg. checked\, dotted\, arrowed” margin_bottom=”no”] \n\nLunedì 08 Maggio 2017 dalle ore 08.30 alle ore 14.30 e dalle ore 14.30 alle ore 18.30\n\n\n[/checklist] \nPer iscrizioni compilare ed inviare il Modulo Corso Antincendio 08/05/2017
URL:https://www.eco2000srl.it/formazione/corso-antincendio-per-attivita-a-basso-e-medio-rischio/
CATEGORIES:Corso
END:VEVENT
END:VCALENDAR