BEGIN:VCALENDAR
VERSION:2.0
PRODID:-//eco2000srl - ECPv6.15.17.1//NONSGML v1.0//EN
CALSCALE:GREGORIAN
METHOD:PUBLISH
X-WR-CALNAME:eco2000srl
X-ORIGINAL-URL:https://www.eco2000srl.it
X-WR-CALDESC:Eventi per eco2000srl
REFRESH-INTERVAL;VALUE=DURATION:PT1H
X-Robots-Tag:noindex
X-PUBLISHED-TTL:PT1H
BEGIN:VTIMEZONE
TZID:UTC
BEGIN:STANDARD
TZOFFSETFROM:+0000
TZOFFSETTO:+0000
TZNAME:UTC
DTSTART:20160101T000000
END:STANDARD
END:VTIMEZONE
BEGIN:VEVENT
DTSTART;TZID=UTC:20170320T000000
DTEND;TZID=UTC:20170320T000000
DTSTAMP:20260422T162253
CREATED:20200321T175209Z
LAST-MODIFIED:20200321T175209Z
UID:74-1489968000-1489968000@www.eco2000srl.it
SUMMARY:Corso di Formazione per Addetti alla Conduzione di PLE Con e Senza Stabilizzatori - Prima Giornata
DESCRIPTION:Gli addetti alla Conduzione di PLE (Piattaforme di Lavoro Mobili Elevabili) che operano con e senza stabilizzatori devono frequentare formazione specifica teorico – pratica della durata complessiva di 10 ore secondo quanto previsto dall’Accordo Stato\, Regioni e Province autonome Repertorio atti n. 53/CSR del 22 Febbraio 2012 ed in attuazione a quanto previsto dagli Art. 37 e Art. 136 comma 8 del D.Lgs. 81/08 e s.m.i.\nDate svolgimento: \nModulo giuridico – normativo (1 ora) e Modulo Tecnico (3 ore) \n[checklist type=”eg. checked\, dotted\, arrowed” margin_bottom=”no”] \n\nLunedì 03 Aprile 2017 dalle ore 08.30 alle ore 12.30\n\n[/checklist] \nModulo pratico (6 ore) \n[checklist type=”eg. checked\, dotted\, arrowed” margin_bottom=”no”] \n\nSabato 08 Aprile 2017 dalle ore 08.30 alle ore 14.30\n\n[/checklist] \nPer iscrizioni compilare ed inviare il Modulo di adesione corso ple aprile 2017
URL:https://www.eco2000srl.it/formazione/corso-di-formazione-per-addetti-alla-conduzione-di-ple-con-e-senza-stabilizzatori-prima-giornata-2/
CATEGORIES:Corso
END:VEVENT
BEGIN:VEVENT
DTSTART;TZID=UTC:20170320T000000
DTEND;TZID=UTC:20170320T000000
DTSTAMP:20260422T162253
CREATED:20200321T175209Z
LAST-MODIFIED:20200321T175209Z
UID:75-1489968000-1489968000@www.eco2000srl.it
SUMMARY:Corso di Formazione per Addetti alla Conduzione di PLE Con e Senza Stabilizzatori - Seconda Giornata
DESCRIPTION:Gli addetti alla Conduzione di PLE (Piattaforme di Lavoro Mobili Elevabili) che operano con e senza stabilizzatori devono frequentare formazione specifica teorico – pratica della durata complessiva di 10 ore secondo quanto previsto dall’Accordo Stato\, Regioni e Province autonome Repertorio atti n. 53/CSR del 22 Febbraio 2012 ed in attuazione a quanto previsto dagli Art. 37 e Art. 136 comma 8 del D.Lgs. 81/08 e s.m.i.\nDate svolgimento: \nModulo giuridico – normativo (1 ora) e Modulo Tecnico (3 ore) \n[checklist type=”eg. checked\, dotted\, arrowed” margin_bottom=”no”] \n\nLunedì 03 Aprile 2017 dalle ore 08.30 alle ore 12.30\n\n[/checklist] \nModulo pratico (6 ore) \n[checklist type=”eg. checked\, dotted\, arrowed” margin_bottom=”no”] \n\nSabato 08 Aprile 2017 dalle ore 08.30 alle ore 14.30\n\n[/checklist] \nPer iscrizioni compilare ed inviare il Modulo di adesione corso ple aprile 2017
URL:https://www.eco2000srl.it/formazione/corso-di-formazione-per-addetti-alla-conduzione-di-ple-con-e-senza-stabilizzatori-seconda-giornata-2/
CATEGORIES:Corso
END:VEVENT
END:VCALENDAR