BEGIN:VCALENDAR
VERSION:2.0
PRODID:-//eco2000srl - ECPv6.15.17.1//NONSGML v1.0//EN
CALSCALE:GREGORIAN
METHOD:PUBLISH
X-WR-CALNAME:eco2000srl
X-ORIGINAL-URL:https://www.eco2000srl.it
X-WR-CALDESC:Eventi per eco2000srl
REFRESH-INTERVAL;VALUE=DURATION:PT1H
X-Robots-Tag:noindex
X-PUBLISHED-TTL:PT1H
BEGIN:VTIMEZONE
TZID:UTC
BEGIN:STANDARD
TZOFFSETFROM:+0000
TZOFFSETTO:+0000
TZNAME:UTC
DTSTART:20160101T000000
END:STANDARD
END:VTIMEZONE
BEGIN:VEVENT
DTSTART;TZID=UTC:20170109T000000
DTEND;TZID=UTC:20170109T000000
DTSTAMP:20260422T193305
CREATED:20200321T175207Z
LAST-MODIFIED:20200321T175207Z
UID:64-1483920000-1483920000@www.eco2000srl.it
SUMMARY:Corso Aggiornamento R.L.S.
DESCRIPTION:Il Testo Unico della Sicurezza prevede non solo la formazione ma anche un continuo aggiornamento relativo alla evoluzione della normativa e delle metodologie di prevenzione\, come richiesto dall’articolo 37 del D.Lgs. 81/08 e s.m.i..Per il Rappresentante dei Lavoratori per la Sicurezza (R.L.S.) è previsto un obbligo di aggiornamento periodico con cadenza annuale con durata che non può essere inferiore a 4 ore annue per le imprese che occupano dai 15 ai 50 lavoratori.\nBenchè non sia obbligatorio per legge un corso di aggiornamento è consigliato anche per gli R.L.S. delle imprese che occupano meno di 15 lavoratori\, anche alla luce delle disposizioni normative emanate dal Ministero del Lavoro secondo cui la formazione dei lavoratori e dei loro rappresentanti deve essere periodicamente repetuta. \nPer iscrizioni compilare ed inviare il Modulo Corso Agg. RLS 25.01.2017
URL:https://www.eco2000srl.it/formazione/corso-aggiornamento-r-l-s-2/
CATEGORIES:Corso
END:VEVENT
BEGIN:VEVENT
DTSTART;TZID=UTC:20170109T000000
DTEND;TZID=UTC:20170109T000000
DTSTAMP:20260422T193305
CREATED:20200321T175207Z
LAST-MODIFIED:20200321T175207Z
UID:65-1483920000-1483920000@www.eco2000srl.it
SUMMARY:Corso di Formazione per Addetti alla Conduzione di Carrelli Elevatori Semoventi con Conducente a Bordo (Muletti) - Prima Giornata
DESCRIPTION:Gli addetti alla Conduzione  di Carrelli Elevatori Semoventi con Conducente a Bordo (Muletti) devono frequentare formazione specifica teorico – pratica della durata complessiva di 12 ore secondo quanto previsto dall’Accordo Stato\, Regioni e Province autonome Repertorio atti n. 53/CSR del 22 Febbraio 2012 ed in attuazione a quanto previsto dagli Art. 37 e Art. 136 comma 8 del D.Lgs. 81/08 e s.m.i.\nDate svolgimento: \nModulo giuridico – normativo (1 ora) e Modulo Tecnico (7 ore) \n[checklist type=”eg. checked\, dotted\, arrowed” margin_bottom=”no”] \n\nVenerdì 20 Gennaio 2017 dalle ore 14.30 alle ore 18.30\nVenerdì 27 Gennaio 2017 dalle ore 14.30 alle ore 18.30\n\n[/checklist] \nModulo pratico (4 ore) \n[checklist type=”eg. checked\, dotted\, arrowed” margin_bottom=”no”] \n\nMartedì 31 Gennaio 2017 dalle ore 14.00 alle ore 18.00\n\n[/checklist] \nPer iscrizioni compilare ed inviare il Modulo Corso Carrellisti GENNAIO 2017
URL:https://www.eco2000srl.it/formazione/corso-di-formazione-per-addetti-alla-conduzione-di-carrelli-elevatori-semoventi-con-conducente-a-bordo-muletti-prima-giornata-2/
CATEGORIES:Corso
END:VEVENT
BEGIN:VEVENT
DTSTART;TZID=UTC:20170109T000000
DTEND;TZID=UTC:20170109T000000
DTSTAMP:20260422T193305
CREATED:20200321T175207Z
LAST-MODIFIED:20200321T175207Z
UID:66-1483920000-1483920000@www.eco2000srl.it
SUMMARY:Corso di Formazione per Addetti alla Conduzione di Carrelli Elevatori Semoventi con Conducente a Bordo (Muletti) - Seconda Giornata
DESCRIPTION:Gli addetti alla Conduzione  di Carrelli Elevatori Semoventi con Conducente a Bordo (Muletti) devono frequentare formazione specifica teorico – pratica della durata complessiva di 12 ore secondo quanto previsto dall’Accordo Stato\, Regioni e Province autonome Repertorio atti n. 53/CSR del 22 Febbraio 2012 ed in attuazione a quanto previsto dagli Art. 37 e Art. 136 comma 8 del D.Lgs. 81/08 e s.m.i.\nDate svolgimento: \nModulo giuridico – normativo (1 ora) e Modulo Tecnico (7 ore) \n[checklist type=”eg. checked\, dotted\, arrowed” margin_bottom=”no”] \n\nVenerdì 20 Gennaio 2017 dalle ore 14.30 alle ore 18.30\nVenerdì 27 Gennaio 2017 dalle ore 14.30 alle ore 18.30\n\n[/checklist] \nModulo pratico (4 ore) \n[checklist type=”eg. checked\, dotted\, arrowed” margin_bottom=”no”] \n\nMartedì 31 Gennaio 2017 dalle ore 14.00 alle ore 18.00\n\n[/checklist] \nPer iscrizioni compilare ed inviare il Modulo Corso Carrellisti GENNAIO 2017
URL:https://www.eco2000srl.it/formazione/corso-di-formazione-per-addetti-alla-conduzione-di-carrelli-elevatori-semoventi-con-conducente-a-bordo-muletti-seconda-giornata-2/
CATEGORIES:Corso
END:VEVENT
BEGIN:VEVENT
DTSTART;TZID=UTC:20170109T000000
DTEND;TZID=UTC:20170109T000000
DTSTAMP:20260422T193305
CREATED:20200321T175207Z
LAST-MODIFIED:20200321T175207Z
UID:67-1483920000-1483920000@www.eco2000srl.it
SUMMARY:Corso di Formazione per Addetti alla Conduzione di Carrelli Elevatori Semoventi con Conducente a Bordo (Muletti) - Terza Giornata
DESCRIPTION:Gli addetti alla Conduzione  di Carrelli Elevatori Semoventi con Conducente a Bordo (Muletti) devono frequentare formazione specifica teorico – pratica della durata complessiva di 12 ore secondo quanto previsto dall’Accordo Stato\, Regioni e Province autonome Repertorio atti n. 53/CSR del 22 Febbraio 2012 ed in attuazione a quanto previsto dagli Art. 37 e Art. 136 comma 8 del D.Lgs. 81/08 e s.m.i.\nDate svolgimento: \nModulo giuridico – normativo (1 ora) e Modulo Tecnico (7 ore) \n[checklist type=”eg. checked\, dotted\, arrowed” margin_bottom=”no”] \n\nVenerdì 20 Gennaio 2017 dalle ore 14.30 alle ore 18.30\nVenerdì 27 Gennaio 2017 dalle ore 14.30 alle ore 18.30\n\n[/checklist] \nModulo pratico (4 ore) \n[checklist type=”eg. checked\, dotted\, arrowed” margin_bottom=”no”] \n\nMartedì 31 Gennaio 2017 dalle ore 14.00 alle ore 18.00\n\n[/checklist] \nPer iscrizioni compilare ed inviare il Modulo Corso Carrellisti GENNAIO 2017
URL:https://www.eco2000srl.it/formazione/corso-di-formazione-per-addetti-alla-conduzione-di-carrelli-elevatori-semoventi-con-conducente-a-bordo-muletti-terza-giornata-2/
CATEGORIES:Corso
END:VEVENT
BEGIN:VEVENT
DTSTART;TZID=UTC:20170109T000000
DTEND;TZID=UTC:20170109T000000
DTSTAMP:20260422T193305
CREATED:20200321T175208Z
LAST-MODIFIED:20200321T175208Z
UID:70-1483920000-1483920000@www.eco2000srl.it
SUMMARY:Corso di formazione per addetti operanti in luoghi con sospetto di inquinamento o confinanti - Terza Giornata
DESCRIPTION:Nei diversi ambiti in cui è applicabile il DPR 177/2011 possono rientrare anche zone e/o impianti presentinei locali tecnici\, specie quelli che prevedono l’accesso all’interno delle vasche di compenso. La\ndefinizione di tali ambienti\, per la loro identificazione nell’ambito degli impianti natatori\, è\, infatti\, da\nricercarsi nel D.P.R. 177/2011 che disciplina la qualificazione delle imprese e dei lavoratori autonomi\ndefinendo i requisiti necessari per operare in tali ambienti e le modalità di gestione dei rapporti tra le\nparti in caso di ricorso all’appalto e al subappalto. Il Decreto precisa che sono definiti ambienti sospetti di\ninquinamento quelli ricompresi negli articoli 66 e 121 del D.Lgs. 81/08 e s.m.i. (pozzi\, pozzi neri\, fogne\,\ncunicoli\, camini\, fosse e fosse in genere\, gallerie e in generale in ambienti e recipienti\, condutture\, caldaie\ne simili\, ove sia possibile il rilascio di gas deleteri)\, mentre sono definiti ambienti confinati quelli previsti al\npunto 3 dell’allegato IV dello stesso Decreto Legislativo (tubazioni\, canalizzazioni e recipienti\,\nquali vasche\, serbatoi e simili\, in cui debbano entrare lavoratori per operazioni di controllo\, riparazione\,\nmanutenzione o per altri motivi dipendenti dall’esercizio dell’impianto o dell’apparecchio). In riferimento\nalle interpretazioni elaborate a livello nazionale e alla normativa internazionale\, si evidenzia come la\nclassificazione di questi ambienti sia caratterizzata dal fatto che sono spazi circoscritti\, non progettati per\nla presenza continua di un lavoratore\, che presentano aperture di accesso con dimensione limitate\n(difficoltà di accesso e/o di uscita) e da una ventilazione naturale sfavorevole\, in cui può accadere un\nevento incidentale importante\, che può portare a un infortunio grave o mortale\, in presenza di condizioni\nche possono essere immediatamente pericolose per la salute o la sicurezza del lavoratore (agenti chimici\npericolosi\, sotto ossigenazione\, rischio di elettrocuzione\, annegamento\, ecc.). I lavoratori operanti in tali\nambienti devono ricevere una idonea formazione. \nDate svolgimento: \nParte teorica (8 ore) \n[checklist type=”eg. checked\, dotted\, arrowed” margin_bottom=”no”] \n\nMartedì 24 Gennaio 2017 dalle ore 14.30 alle ore 18.30\nGiovedì 26 Gennaio 2017 dalle ore 08.30 alle ore 12.30\n\n[/checklist] \nParte pratica (4 ore) \n[checklist type=”eg. checked\, dotted\, arrowed” margin_bottom=”no”] \n\nGiovedì 26 Gennaio 2017 dalle ore 14.30 alle ore 18.30\n\n[/checklist] \nPer iscrizioni compilare ed inviare il ModuloCorsoAmbientiInquinatiSpaziConfinati Eco 2000 Srl
URL:https://www.eco2000srl.it/formazione/corso-di-formazione-per-addetti-operanti-in-luoghi-con-sospetto-di-inquinamento-o-confinanti-terza-giornata/
CATEGORIES:Corso
END:VEVENT
BEGIN:VEVENT
DTSTART;TZID=UTC:20170109T000000
DTEND;TZID=UTC:20170109T000000
DTSTAMP:20260422T193305
CREATED:20200321T175208Z
LAST-MODIFIED:20200321T175208Z
UID:68-1483920000-1483920000@www.eco2000srl.it
SUMMARY:Corso di formazione per addetti operanti in luoghi con sospetto di inquinamento o confinanti - Prima Giornata
DESCRIPTION:Nei diversi ambiti in cui è applicabile il DPR 177/2011 possono rientrare anche zone e/o impianti presentinei locali tecnici\, specie quelli che prevedono l’accesso all’interno delle vasche di compenso. La\ndefinizione di tali ambienti\, per la loro identificazione nell’ambito degli impianti natatori\, è\, infatti\, da\nricercarsi nel D.P.R. 177/2011 che disciplina la qualificazione delle imprese e dei lavoratori autonomi\ndefinendo i requisiti necessari per operare in tali ambienti e le modalità di gestione dei rapporti tra le\nparti in caso di ricorso all’appalto e al subappalto. Il Decreto precisa che sono definiti ambienti sospetti di\ninquinamento quelli ricompresi negli articoli 66 e 121 del D.Lgs. 81/08 e s.m.i. (pozzi\, pozzi neri\, fogne\,\ncunicoli\, camini\, fosse e fosse in genere\, gallerie e in generale in ambienti e recipienti\, condutture\, caldaie\ne simili\, ove sia possibile il rilascio di gas deleteri)\, mentre sono definiti ambienti confinati quelli previsti al\npunto 3 dell’allegato IV dello stesso Decreto Legislativo (tubazioni\, canalizzazioni e recipienti\,\nquali vasche\, serbatoi e simili\, in cui debbano entrare lavoratori per operazioni di controllo\, riparazione\,\nmanutenzione o per altri motivi dipendenti dall’esercizio dell’impianto o dell’apparecchio). In riferimento\nalle interpretazioni elaborate a livello nazionale e alla normativa internazionale\, si evidenzia come la\nclassificazione di questi ambienti sia caratterizzata dal fatto che sono spazi circoscritti\, non progettati per\nla presenza continua di un lavoratore\, che presentano aperture di accesso con dimensione limitate\n(difficoltà di accesso e/o di uscita) e da una ventilazione naturale sfavorevole\, in cui può accadere un\nevento incidentale importante\, che può portare a un infortunio grave o mortale\, in presenza di condizioni\nche possono essere immediatamente pericolose per la salute o la sicurezza del lavoratore (agenti chimici\npericolosi\, sotto ossigenazione\, rischio di elettrocuzione\, annegamento\, ecc.). I lavoratori operanti in tali\nambienti devono ricevere una idonea formazione. \nDate svolgimento: \nParte teorica (8 ore) \n[checklist type=”eg. checked\, dotted\, arrowed” margin_bottom=”no”] \n\nMartedì 24 Gennaio 2017 dalle ore 14.30 alle ore 18.30\nGiovedì 26 Gennaio 2017 dalle ore 08.30 alle ore 12.30\n\n[/checklist] \nParte pratica (4 ore) \n[checklist type=”eg. checked\, dotted\, arrowed” margin_bottom=”no”] \n\nGiovedì 26 Gennaio 2017 dalle ore 14.30 alle ore 18.30\n\n[/checklist] \nPer iscrizioni compilare ed inviare il ModuloCorsoAmbientiInquinatiSpaziConfinati Eco 2000 Srl
URL:https://www.eco2000srl.it/formazione/corso-di-formazione-per-addetti-operanti-in-luoghi-con-sospetto-di-inquinamento-o-confinanti-prima-giornata/
CATEGORIES:Corso
END:VEVENT
BEGIN:VEVENT
DTSTART;TZID=UTC:20170109T000000
DTEND;TZID=UTC:20170109T000000
DTSTAMP:20260422T193305
CREATED:20200321T175208Z
LAST-MODIFIED:20200321T175208Z
UID:69-1483920000-1483920000@www.eco2000srl.it
SUMMARY:Corso di formazione per addetti operanti in luoghi con sospetto di inquinamento o confinanti - Seconda Giornata
DESCRIPTION:Nei diversi ambiti in cui è applicabile il DPR 177/2011 possono rientrare anche zone e/o impianti presentinei locali tecnici\, specie quelli che prevedono l’accesso all’interno delle vasche di compenso. La\ndefinizione di tali ambienti\, per la loro identificazione nell’ambito degli impianti natatori\, è\, infatti\, da\nricercarsi nel D.P.R. 177/2011 che disciplina la qualificazione delle imprese e dei lavoratori autonomi\ndefinendo i requisiti necessari per operare in tali ambienti e le modalità di gestione dei rapporti tra le\nparti in caso di ricorso all’appalto e al subappalto. Il Decreto precisa che sono definiti ambienti sospetti di\ninquinamento quelli ricompresi negli articoli 66 e 121 del D.Lgs. 81/08 e s.m.i. (pozzi\, pozzi neri\, fogne\,\ncunicoli\, camini\, fosse e fosse in genere\, gallerie e in generale in ambienti e recipienti\, condutture\, caldaie\ne simili\, ove sia possibile il rilascio di gas deleteri)\, mentre sono definiti ambienti confinati quelli previsti al\npunto 3 dell’allegato IV dello stesso Decreto Legislativo (tubazioni\, canalizzazioni e recipienti\,\nquali vasche\, serbatoi e simili\, in cui debbano entrare lavoratori per operazioni di controllo\, riparazione\,\nmanutenzione o per altri motivi dipendenti dall’esercizio dell’impianto o dell’apparecchio). In riferimento\nalle interpretazioni elaborate a livello nazionale e alla normativa internazionale\, si evidenzia come la\nclassificazione di questi ambienti sia caratterizzata dal fatto che sono spazi circoscritti\, non progettati per\nla presenza continua di un lavoratore\, che presentano aperture di accesso con dimensione limitate\n(difficoltà di accesso e/o di uscita) e da una ventilazione naturale sfavorevole\, in cui può accadere un\nevento incidentale importante\, che può portare a un infortunio grave o mortale\, in presenza di condizioni\nche possono essere immediatamente pericolose per la salute o la sicurezza del lavoratore (agenti chimici\npericolosi\, sotto ossigenazione\, rischio di elettrocuzione\, annegamento\, ecc.). I lavoratori operanti in tali\nambienti devono ricevere una idonea formazione. \nDate svolgimento: \nParte teorica (8 ore) \n[checklist type=”eg. checked\, dotted\, arrowed” margin_bottom=”no”] \n\nMartedì 24 Gennaio 2017 dalle ore 14.30 alle ore 18.30\nGiovedì 26 Gennaio 2017 dalle ore 08.30 alle ore 12.30\n\n[/checklist] \nParte pratica (4 ore) \n[checklist type=”eg. checked\, dotted\, arrowed” margin_bottom=”no”] \n\nGiovedì 26 Gennaio 2017 dalle ore 14.30 alle ore 18.30\n\n[/checklist] \nPer iscrizioni compilare ed inviare il ModuloCorsoAmbientiInquinatiSpaziConfinati Eco 2000 Srl
URL:https://www.eco2000srl.it/formazione/corso-di-formazione-per-addetti-operanti-in-luoghi-con-sospetto-di-inquinamento-o-confinanti-seconda-giornata/
CATEGORIES:Corso
END:VEVENT
BEGIN:VEVENT
DTSTART;TZID=UTC:20170124T000000
DTEND;TZID=UTC:20170124T000000
DTSTAMP:20260422T193305
CREATED:20200321T175208Z
LAST-MODIFIED:20200321T175208Z
UID:71-1485216000-1485216000@www.eco2000srl.it
SUMMARY:Corso di formazione per addetti alla conduzione di gru a torre con rotazione in basso - Prima Giornata
DESCRIPTION:Gli addetti alla Conduzione di Gru a Torre con Rotazione in Basso devono frequentare formazione specifica teorico – pratica della durata complessiva di 12 ore secondo quanto previsto dall’Accordo Stato\, Regioni e Province autonome Repertorio atti n. 53/CSR del 22 Febbraio 2012 ed in attuazione a quanto previsto dagli Art. 37 e Art. 136 comma 8 del D.Lgs. 81/08 e s.m.i.\nDate svolgimento: \nModulo giuridico – normativo (1 ora) \nModulo Tecnico (7 ore) \n[checklist type=”eg. checked\, dotted\, arrowed” margin_bottom=”no”] \n\nMartedì 07 Febbraio 2017 dalle ore 14.30 alle ore 18.30\nVenerdì 10 Febbraio 2017 dalle ore 14.30 alle ore 18.30\n\n[/checklist] \nModulo pratico (4 ore) \n[checklist type=”eg. checked\, dotted\, arrowed” margin_bottom=”no”] \n\nMercoledì 15 Febbraio 2017 dalle ore 14.00 alle ore 18.00\n\n[/checklist] \nPer iscrizioni compilare ed inviare il Modulo Corso GRU’ a Torre Rotazione in Basso Febbraio 2017
URL:https://www.eco2000srl.it/formazione/corso-di-formazione-per-addetti-alla-conduzione-di-gru-a-torre-con-rotazione-in-basso-prima-giornata/
CATEGORIES:Corso
END:VEVENT
BEGIN:VEVENT
DTSTART;TZID=UTC:20170124T000000
DTEND;TZID=UTC:20170124T000000
DTSTAMP:20260422T193305
CREATED:20200321T175208Z
LAST-MODIFIED:20200321T175208Z
UID:72-1485216000-1485216000@www.eco2000srl.it
SUMMARY:Corso di formazione per addetti alla conduzione di gru a torre con rotazione in basso - Seconda Giornata
DESCRIPTION:Gli addetti alla Conduzione di Gru a Torre con Rotazione in Basso devono frequentare formazione specifica teorico – pratica della durata complessiva di 12 ore secondo quanto previsto dall’Accordo Stato\, Regioni e Province autonome Repertorio atti n. 53/CSR del 22 Febbraio 2012 ed in attuazione a quanto previsto dagli Art. 37 e Art. 136 comma 8 del D.Lgs. 81/08 e s.m.i.\nDate svolgimento: \nModulo giuridico – normativo (1 ora) \nModulo Tecnico (7 ore) \n[checklist type=”eg. checked\, dotted\, arrowed” margin_bottom=”no”] \n\nMartedì 07 Febbraio 2017 dalle ore 14.30 alle ore 18.30\nVenerdì 10 Febbraio 2017 dalle ore 14.30 alle ore 18.30\n\n[/checklist] \nModulo pratico (4 ore) \n[checklist type=”eg. checked\, dotted\, arrowed” margin_bottom=”no”] \n\nMercoledì 15 Febbraio 2017 dalle ore 14.00 alle ore 18.00\n\n[/checklist] \nPer iscrizioni compilare ed inviare il Modulo Corso GRU’ a Torre Rotazione in Basso Febbraio 2017
URL:https://www.eco2000srl.it/formazione/corso-di-formazione-per-addetti-alla-conduzione-di-gru-a-torre-con-rotazione-in-basso-seconda-giornata/
CATEGORIES:Corso
END:VEVENT
BEGIN:VEVENT
DTSTART;TZID=UTC:20170124T000000
DTEND;TZID=UTC:20170124T000000
DTSTAMP:20260422T193305
CREATED:20200321T175209Z
LAST-MODIFIED:20200321T175209Z
UID:73-1485216000-1485216000@www.eco2000srl.it
SUMMARY:Corso di formazione per addetti alla conduzione di gru a torre con rotazione in basso - Terza Giornata
DESCRIPTION:Gli addetti alla Conduzione di Gru a Torre con Rotazione in Basso devono frequentare formazione specifica teorico – pratica della durata complessiva di 12 ore secondo quanto previsto dall’Accordo Stato\, Regioni e Province autonome Repertorio atti n. 53/CSR del 22 Febbraio 2012 ed in attuazione a quanto previsto dagli Art. 37 e Art. 136 comma 8 del D.Lgs. 81/08 e s.m.i.\nDate svolgimento: \nModulo giuridico – normativo (1 ora) \nModulo Tecnico (7 ore) \n[checklist type=”eg. checked\, dotted\, arrowed” margin_bottom=”no”] \n\nMartedì 07 Febbraio 2017 dalle ore 14.30 alle ore 18.30\nVenerdì 10 Febbraio 2017 dalle ore 14.30 alle ore 18.30\n\n[/checklist] \nModulo pratico (4 ore) \n[checklist type=”eg. checked\, dotted\, arrowed” margin_bottom=”no”] \n\nMercoledì 15 Febbraio 2017 dalle ore 14.00 alle ore 18.00\n\n[/checklist] \nPer iscrizioni compilare ed inviare il Modulo Corso GRU’ a Torre Rotazione in Basso Febbraio 2017
URL:https://www.eco2000srl.it/formazione/corso-di-formazione-per-addetti-alla-conduzione-di-gru-a-torre-con-rotazione-in-basso-terza-giornata/
CATEGORIES:Corso
END:VEVENT
END:VCALENDAR