BEGIN:VCALENDAR
VERSION:2.0
PRODID:-//eco2000srl - ECPv6.15.17.1//NONSGML v1.0//EN
CALSCALE:GREGORIAN
METHOD:PUBLISH
X-WR-CALNAME:eco2000srl
X-ORIGINAL-URL:https://www.eco2000srl.it
X-WR-CALDESC:Eventi per eco2000srl
REFRESH-INTERVAL;VALUE=DURATION:PT1H
X-Robots-Tag:noindex
X-PUBLISHED-TTL:PT1H
BEGIN:VTIMEZONE
TZID:UTC
BEGIN:STANDARD
TZOFFSETFROM:+0000
TZOFFSETTO:+0000
TZNAME:UTC
DTSTART:20150101T000000
END:STANDARD
END:VTIMEZONE
BEGIN:VEVENT
DTSTART;TZID=UTC:20161205T000000
DTEND;TZID=UTC:20161205T000000
DTSTAMP:20260422T210821
CREATED:20200321T175206Z
LAST-MODIFIED:20200321T175206Z
UID:62-1480896000-1480896000@www.eco2000srl.it
SUMMARY:Corso Aggiornamento R.S.P.P. ALTO Rischio - Terza Giornata
DESCRIPTION:Date svolgimento:\n[checklist type=”eg. checked\, dotted\, arrowed” margin_bottom=”no”] \n\nLunedì 09 Gennaio 2017 dalle ore 15.00 alle ore 19.00\nMercoledì 11 Gennaio 2017 dalle ore 15.00 alle ore 18.00\nLunedì 16 Gennaio 2017 dalle ore 15.00 alle ore 19.00\nMercoledì 18 Gennaio 2016 dalle ore 15.00 alle ore 18.00\n\n[/checklist] \nIl Testo Unico della Sicurezza nel rispetto dei contenuti e delle articolazioni definiti mediante accordo in sede di Conferenza permanente per i rapporti tra lo Stato\, le regioni e le province autonome di Trento e Bolzano (Repertorio atti n. 223/csr del 21 dicembre 2011) pubblicato su G.U. n. 8 del 11 Gennaio 2012\, prevede che il datore di lavoro che intende svolgere i compiti propri del servizio di prevenzione e protezione dai rischi deve frequentare non solo corso di formazione base ma anche un aggiornamento quinquennale. \nL’aggiornamento ha periodicità quinquennale (cinque anni a decorrere dalla data di pubblicazione dell’accordo sopracitato) e ha durata di 14 ore per le attività con livello di rischio alto. \nPer iscrizioni compilare ed inviare il Modulo Agg. RSPP Gen 2017 – Attività Rischio ALTO
URL:https://www.eco2000srl.it/formazione/corso-aggiornamento-r-s-p-p-alto-rischio-terza-giornata-5/
CATEGORIES:Corso
END:VEVENT
BEGIN:VEVENT
DTSTART;TZID=UTC:20161205T000000
DTEND;TZID=UTC:20161205T000000
DTSTAMP:20260422T210821
CREATED:20200321T175206Z
LAST-MODIFIED:20200321T175206Z
UID:59-1480896000-1480896000@www.eco2000srl.it
SUMMARY:Corso Aggiornamento per Addetti Primo Soccorso Gruppi A e B/C
DESCRIPTION:La normativa prevede che il datore di lavoro designi uno o più lavoratori incaricati dei provvedimenti necessari in materia di pronto soccorso e di assistenza medica ed emergenza.\nI lavoratori incaricati dell’attività di prevenzione incendi e lotta antincendio\, di evacuazione dei luoghi di lavoro in caso di pericolo grave ed immediato\, di salvataggio\, di primo soccorso e\, comunque\, di gestione dell’emergenza devono ricevere un’adeguata e specifica formazione e un aggiornamento periodico (art. 37 com. 9\, D.Lgs. 81/2008 e s.m.i.). \nTali addetti devono ricevere un adeguato e specifico aggiornamento\, con cadenza triennale\, per mantenere\, al meglio le competenze relative al ruolo assegnato. \nPer le imprese rientranti nel gruppo “A” il corso di aggiornamento ha una durata di 6 ore\, mentre per le imprese che rientrano nei gruppi “B” e “C” il corso di aggiornamento ha una durata di 4 ore. \nPer iscrizioni compilare ed inviare il Modulo Corso Aggiornamento Primo Soccorso Marzo 2019
URL:https://www.eco2000srl.it/formazione/corso-aggiornamento-per-addetti-primo-soccorso-gruppi-a-e-b-c-3/
CATEGORIES:Corso
END:VEVENT
BEGIN:VEVENT
DTSTART;TZID=UTC:20161205T000000
DTEND;TZID=UTC:20161205T000000
DTSTAMP:20260422T210821
CREATED:20200321T175206Z
LAST-MODIFIED:20200321T175206Z
UID:60-1480896000-1480896000@www.eco2000srl.it
SUMMARY:Corso Aggiornamento R.S.P.P. ALTO Rischio - Prima Giornata
DESCRIPTION:Date svolgimento:\n[checklist type=”eg. checked\, dotted\, arrowed” margin_bottom=”no”] \n\nLunedì 09 Gennaio 2017 dalle ore 15.00 alle ore 19.00\nMercoledì 11 Gennaio 2017 dalle ore 15.00 alle ore 18.00\nLunedì 16 Gennaio 2017 dalle ore 15.00 alle ore 19.00\nMercoledì 18 Gennaio 2016 dalle ore 15.00 alle ore 18.00\n\n[/checklist] \nIl Testo Unico della Sicurezza nel rispetto dei contenuti e delle articolazioni definiti mediante accordo in sede di Conferenza permanente per i rapporti tra lo Stato\, le regioni e le province autonome di Trento e Bolzano (Repertorio atti n. 223/csr del 21 dicembre 2011) pubblicato su G.U. n. 8 del 11 Gennaio 2012\, prevede che il datore di lavoro che intende svolgere i compiti propri del servizio di prevenzione e protezione dai rischi deve frequentare non solo corso di formazione base ma anche un aggiornamento quinquennale. \nL’aggiornamento ha periodicità quinquennale (cinque anni a decorrere dalla data di pubblicazione dell’accordo sopracitato) e ha durata di 14 ore per le attività con livello di rischio alto. \nPer iscrizioni compilare ed inviare il Modulo Agg. RSPP Gen 2017 – Attività Rischio ALTO
URL:https://www.eco2000srl.it/formazione/corso-aggiornamento-r-s-p-p-alto-rischio-prima-giornata-5/
CATEGORIES:Corso
END:VEVENT
BEGIN:VEVENT
DTSTART;TZID=UTC:20161205T000000
DTEND;TZID=UTC:20161205T000000
DTSTAMP:20260422T210821
CREATED:20200321T175206Z
LAST-MODIFIED:20200321T175206Z
UID:61-1480896000-1480896000@www.eco2000srl.it
SUMMARY:Corso Aggiornamento R.S.P.P. ALTO Rischio - Seconda Giornata
DESCRIPTION:Date svolgimento:\n[checklist type=”eg. checked\, dotted\, arrowed” margin_bottom=”no”] \n\nLunedì 09 Gennaio 2017 dalle ore 15.00 alle ore 19.00\nMercoledì 11 Gennaio 2017 dalle ore 15.00 alle ore 18.00\nLunedì 16 Gennaio 2017 dalle ore 15.00 alle ore 19.00\nMercoledì 18 Gennaio 2016 dalle ore 15.00 alle ore 18.00\n\n[/checklist] \nIl Testo Unico della Sicurezza nel rispetto dei contenuti e delle articolazioni definiti mediante accordo in sede di Conferenza permanente per i rapporti tra lo Stato\, le regioni e le province autonome di Trento e Bolzano (Repertorio atti n. 223/csr del 21 dicembre 2011) pubblicato su G.U. n. 8 del 11 Gennaio 2012\, prevede che il datore di lavoro che intende svolgere i compiti propri del servizio di prevenzione e protezione dai rischi deve frequentare non solo corso di formazione base ma anche un aggiornamento quinquennale. \nL’aggiornamento ha periodicità quinquennale (cinque anni a decorrere dalla data di pubblicazione dell’accordo sopracitato) e ha durata di 14 ore per le attività con livello di rischio alto. \nPer iscrizioni compilare ed inviare il Modulo Agg. RSPP Gen 2017 – Attività Rischio ALTO
URL:https://www.eco2000srl.it/formazione/corso-aggiornamento-r-s-p-p-alto-rischio-seconda-giornata-5/
CATEGORIES:Corso
END:VEVENT
BEGIN:VEVENT
DTSTART;TZID=UTC:20161205T000000
DTEND;TZID=UTC:20161205T000000
DTSTAMP:20260422T210821
CREATED:20200321T175207Z
LAST-MODIFIED:20200321T175207Z
UID:63-1480896000-1480896000@www.eco2000srl.it
SUMMARY:Corso Aggiornamento R.S.P.P. ALTO Rischio - Quarta Giornata
DESCRIPTION:Date svolgimento:\n[checklist type=”eg. checked\, dotted\, arrowed” margin_bottom=”no”] \n\nLunedì 09 Gennaio 2017 dalle ore 15.00 alle ore 19.00\nMercoledì 11 Gennaio 2017 dalle ore 15.00 alle ore 18.00\nLunedì 16 Gennaio 2017 dalle ore 15.00 alle ore 19.00\nMercoledì 18 Gennaio 2016 dalle ore 15.00 alle ore 18.00\n\n[/checklist] \nIl Testo Unico della Sicurezza nel rispetto dei contenuti e delle articolazioni definiti mediante accordo in sede di Conferenza permanente per i rapporti tra lo Stato\, le regioni e le province autonome di Trento e Bolzano (Repertorio atti n. 223/csr del 21 dicembre 2011) pubblicato su G.U. n. 8 del 11 Gennaio 2012\, prevede che il datore di lavoro che intende svolgere i compiti propri del servizio di prevenzione e protezione dai rischi deve frequentare non solo corso di formazione base ma anche un aggiornamento quinquennale. \nL’aggiornamento ha periodicità quinquennale (cinque anni a decorrere dalla data di pubblicazione dell’accordo sopracitato) e ha durata di 14 ore per le attività con livello di rischio alto. \nPer iscrizioni compilare ed inviare il Modulo Agg. RSPP Gen 2017 – Attività Rischio ALTO
URL:https://www.eco2000srl.it/formazione/corso-aggiornamento-r-s-p-p-alto-rischio-quarta-giornata-5/
CATEGORIES:Corso
END:VEVENT
END:VCALENDAR