BEGIN:VCALENDAR
VERSION:2.0
PRODID:-//eco2000srl - ECPv6.15.17.1//NONSGML v1.0//EN
CALSCALE:GREGORIAN
METHOD:PUBLISH
X-WR-CALNAME:eco2000srl
X-ORIGINAL-URL:https://www.eco2000srl.it
X-WR-CALDESC:Eventi per eco2000srl
REFRESH-INTERVAL;VALUE=DURATION:PT1H
X-Robots-Tag:noindex
X-PUBLISHED-TTL:PT1H
BEGIN:VTIMEZONE
TZID:UTC
BEGIN:STANDARD
TZOFFSETFROM:+0000
TZOFFSETTO:+0000
TZNAME:UTC
DTSTART:20150101T000000
END:STANDARD
END:VTIMEZONE
BEGIN:VEVENT
DTSTART;TZID=UTC:20161003T000000
DTEND;TZID=UTC:20161003T000000
DTSTAMP:20260423T000758
CREATED:20200321T175205Z
LAST-MODIFIED:20200321T175205Z
UID:55-1475452800-1475452800@www.eco2000srl.it
SUMMARY:Corso di Formazione Lavoratori - Attività Alto Rischio Prima Giornata
DESCRIPTION:Date svolgimento:\n[checklist type=”eg. checked\, dotted\, arrowed” margin_bottom=”no”] \n\nMartedì 08 Novembre 2016 dalle ore 14.00 alle ore 18.00\nGiovedì 10 Novembre 2016 dalle ore 14.00 alle ore 18.00\nMartedì 15 Novembre 2016 dalle ore 14.00 alle ore 18.00\nGiovedì 17 Novembre 2016 dalle ore 14.00 alle ore 18.00\n\n[/checklist] \nIl Testo Unico della Sicurezza nel rispetto dei contenuti e delle articolazioni definiti mediante accordo in sede di Conferenza permanente per i rapporti tra lo Stato\, le regioni e le province autonome di Trento e Bolzano (Repertorio atti n. 221/csr del 21 dicembre 2011) pubblicato su G.U. n. 8 del 11 Gennaio 2012\, stabilisce il percorso\, i contenuti e il monte ore di formazione necessarie alla formazione dei lavoratori. \nQuesto corso riguarda le attività considerate a ALTO rischio in base al settore ATECO (Ad esempio Costruzioni\, industrie alimentari\, industrie tessili\, confezione articoli di abbigliamento\, fabbricazione di articoli in pelle e simili\, industria del legno\, ecc.) ed è rivolto ai neo assunti e a quei lavoratori che non hanno attività formativa pregressa documentata. \nIl corso base ha durata totale di 16 ore (4 ore di formazione Generale + 12 ore di formazione Specifica per i sottori della classe di rischio alto). \nPer iscrizioni compilare ed inviare il Modulo Corso Lavoratori Alto Rischio – Novembre 2016
URL:https://www.eco2000srl.it/formazione/corso-di-formazione-lavoratori-attivita-alto-rischio-prima-giornata/
CATEGORIES:Corso
END:VEVENT
BEGIN:VEVENT
DTSTART;TZID=UTC:20161003T000000
DTEND;TZID=UTC:20161003T000000
DTSTAMP:20260423T000758
CREATED:20200321T175205Z
LAST-MODIFIED:20200321T175205Z
UID:56-1475452800-1475452800@www.eco2000srl.it
SUMMARY:Corso di Formazione Lavoratori - Attività Alto Rischio Seconda Giornata
DESCRIPTION:Date svolgimento:\n[checklist type=”eg. checked\, dotted\, arrowed” margin_bottom=”no”] \n\nMartedì 08 Novembre 2016 dalle ore 14.00 alle ore 18.00\nGiovedì 10 Novembre 2016 dalle ore 14.00 alle ore 18.00\nMartedì 15 Novembre 2016 dalle ore 14.00 alle ore 18.00\nGiovedì 17 Novembre 2016 dalle ore 14.00 alle ore 18.00\n\n[/checklist] \nIl Testo Unico della Sicurezza nel rispetto dei contenuti e delle articolazioni definiti mediante accordo in sede di Conferenza permanente per i rapporti tra lo Stato\, le regioni e le province autonome di Trento e Bolzano (Repertorio atti n. 221/csr del 21 dicembre 2011) pubblicato su G.U. n. 8 del 11 Gennaio 2012\, stabilisce il percorso\, i contenuti e il monte ore di formazione necessarie alla formazione dei lavoratori. \nQuesto corso riguarda le attività considerate a ALTO rischio in base al settore ATECO (Ad esempio Costruzioni\, industrie alimentari\, industrie tessili\, confezione articoli di abbigliamento\, fabbricazione di articoli in pelle e simili\, industria del legno\, ecc.) ed è rivolto ai neo assunti e a quei lavoratori che non hanno attività formativa pregressa documentata. \nIl corso base ha durata totale di 16 ore (4 ore di formazione Generale + 12 ore di formazione Specifica per i sottori della classe di rischio alto). \nPer iscrizioni compilare ed inviare il Modulo Corso Lavoratori Alto Rischio – Novembre 2016
URL:https://www.eco2000srl.it/formazione/corso-di-formazione-lavoratori-attivita-alto-rischio-seconda-giornata/
CATEGORIES:Corso
END:VEVENT
BEGIN:VEVENT
DTSTART;TZID=UTC:20161003T000000
DTEND;TZID=UTC:20161003T000000
DTSTAMP:20260423T000758
CREATED:20200321T175205Z
LAST-MODIFIED:20200321T175205Z
UID:57-1475452800-1475452800@www.eco2000srl.it
SUMMARY:Corso di Formazione Lavoratori - Attività Alto Rischio Terza Giornata
DESCRIPTION:Date svolgimento:\n[checklist type=”eg. checked\, dotted\, arrowed” margin_bottom=”no”] \n\nMartedì 08 Novembre 2016 dalle ore 14.00 alle ore 18.00\nGiovedì 10 Novembre 2016 dalle ore 14.00 alle ore 18.00\nMartedì 15 Novembre 2016 dalle ore 14.00 alle ore 18.00\nGiovedì 17 Novembre 2016 dalle ore 14.00 alle ore 18.00\n\n[/checklist] \nIl Testo Unico della Sicurezza nel rispetto dei contenuti e delle articolazioni definiti mediante accordo in sede di Conferenza permanente per i rapporti tra lo Stato\, le regioni e le province autonome di Trento e Bolzano (Repertorio atti n. 221/csr del 21 dicembre 2011) pubblicato su G.U. n. 8 del 11 Gennaio 2012\, stabilisce il percorso\, i contenuti e il monte ore di formazione necessarie alla formazione dei lavoratori. \nQuesto corso riguarda le attività considerate a ALTO rischio in base al settore ATECO (Ad esempio Costruzioni\, industrie alimentari\, industrie tessili\, confezione articoli di abbigliamento\, fabbricazione di articoli in pelle e simili\, industria del legno\, ecc.) ed è rivolto ai neo assunti e a quei lavoratori che non hanno attività formativa pregressa documentata. \nIl corso base ha durata totale di 16 ore (4 ore di formazione Generale + 12 ore di formazione Specifica per i sottori della classe di rischio alto). \nPer iscrizioni compilare ed inviare il Modulo Corso Lavoratori Alto Rischio – Novembre 2016
URL:https://www.eco2000srl.it/formazione/corso-di-formazione-lavoratori-attivita-alto-rischio-terza-giornata/
CATEGORIES:Corso
END:VEVENT
BEGIN:VEVENT
DTSTART;TZID=UTC:20161003T000000
DTEND;TZID=UTC:20161003T000000
DTSTAMP:20260423T000758
CREATED:20200321T175206Z
LAST-MODIFIED:20200321T175206Z
UID:58-1475452800-1475452800@www.eco2000srl.it
SUMMARY:Corso di Formazione Lavoratori - Attività Alto Rischio Quarta Giornata
DESCRIPTION:Date svolgimento:\n[checklist type=”eg. checked\, dotted\, arrowed” margin_bottom=”no”] \n\nMartedì 08 Novembre 2016 dalle ore 14.00 alle ore 18.00\nGiovedì 10 Novembre 2016 dalle ore 14.00 alle ore 18.00\nMartedì 15 Novembre 2016 dalle ore 14.00 alle ore 18.00\nGiovedì 17 Novembre 2016 dalle ore 14.00 alle ore 18.00\n\n[/checklist] \nIl Testo Unico della Sicurezza nel rispetto dei contenuti e delle articolazioni definiti mediante accordo in sede di Conferenza permanente per i rapporti tra lo Stato\, le regioni e le province autonome di Trento e Bolzano (Repertorio atti n. 221/csr del 21 dicembre 2011) pubblicato su G.U. n. 8 del 11 Gennaio 2012\, stabilisce il percorso\, i contenuti e il monte ore di formazione necessarie alla formazione dei lavoratori. \nQuesto corso riguarda le attività considerate a ALTO rischio in base al settore ATECO (Ad esempio Costruzioni\, industrie alimentari\, industrie tessili\, confezione articoli di abbigliamento\, fabbricazione di articoli in pelle e simili\, industria del legno\, ecc.) ed è rivolto ai neo assunti e a quei lavoratori che non hanno attività formativa pregressa documentata. \nIl corso base ha durata totale di 16 ore (4 ore di formazione Generale + 12 ore di formazione Specifica per i sottori della classe di rischio alto). \nPer iscrizioni compilare ed inviare il Modulo Corso Lavoratori Alto Rischio – Novembre 2016
URL:https://www.eco2000srl.it/formazione/corso-di-formazione-lavoratori-attivita-alto-rischio-quarta-giornata/
CATEGORIES:Corso
END:VEVENT
END:VCALENDAR