BEGIN:VCALENDAR
VERSION:2.0
PRODID:-//eco2000srl - ECPv6.15.17.1//NONSGML v1.0//EN
CALSCALE:GREGORIAN
METHOD:PUBLISH
X-ORIGINAL-URL:https://www.eco2000srl.it
X-WR-CALDESC:Eventi per eco2000srl
REFRESH-INTERVAL;VALUE=DURATION:PT1H
X-Robots-Tag:noindex
X-PUBLISHED-TTL:PT1H
BEGIN:VTIMEZONE
TZID:UTC
BEGIN:STANDARD
TZOFFSETFROM:+0000
TZOFFSETTO:+0000
TZNAME:UTC
DTSTART:20150101T000000
END:STANDARD
END:VTIMEZONE
BEGIN:VEVENT
DTSTART;TZID=UTC:20160623T000000
DTEND;TZID=UTC:20160623T000000
DTSTAMP:20260423T061434
CREATED:20200321T175201Z
LAST-MODIFIED:20200321T175201Z
UID:33-1466640000-1466640000@www.eco2000srl.it
SUMMARY:Corso Base per Addetti Primo Soccorso Gruppi A e B/C - Prima Giornata
DESCRIPTION:Date svolgimento:\nGruppo A \n[checklist type=”eg. checked\, dotted\, arrowed” margin_bottom=”no”] \n\nMartedì 5 Luglio 2016 dalle ore 14.30 alle ore 18.30\nGiovedì 7 Luglio 2016 dalle ore 14.30 alle ore 18.30\nMartedì 12 Luglio 2016 dalle ore 14.30 alle ore 18.30\nGiovedì 14 Luglio 2016 dalle ore 14.30 alle ore 18.30\n\n[/checklist] \nGruppo B / C \n[checklist type=”eg. checked\, dotted\, arrowed” margin_bottom=”no”] \n\nMartedì 5 Luglio 2016 dalle ore 14.30 alle ore 18.30\nGiovedì 7 Luglio 2016 dalle ore 14.30 alle ore 18.30\nMartedì 12 Luglio 2016 dalle ore 14.30 alle ore 18.30\n\n[/checklist] \n  \nIl D.Lgs. 81/08 e s.m.i. prevede che “Il datore di lavoro ha l’obbligo di designare preventivamente i lavoratori incaricati dell’attuazione delle misure di prevenzione incendi e lotta antincendio\, di evacuazione dei luoghi di lavoro in caso di pericolo grave e immediato\, di salvataggio\, di primo soccorso e\, comunque\, di gestione dell’emergenza periodico” (art. 18 com. 1\, D.Lgs. 81/2008 e s.m.i.). e che “I lavoratori incaricati dell’attività di prevenzione incendi e lotta antincendio\, di evacuazione dei luoghi di lavoro in caso di pericolo grave ed immediato\, di salvataggio\, di primo soccorso e\, comunque\, di gestione dell’emergenza devono ricevere un’adeguata e specifica formazione e un aggiornamento periodico” (art. 37 com. 9\, D.Lgs. 81/2008 e s.m.i.). \nIl Corso di Base riguarda coloro che ancora non hanno ricevuto nessuna formazione. \nLe aziende ovvero le unità produttive sono classificate\, tenuto conto della tipologia di attività svolta\, del numero dei lavoratori occupati e dei fattori di rischio\, in tre gruppi. \nPer le imprese rientranti nel gruppo “A” il corso ha una durata di 16 ore\, mentre per le imprese che rientrano nei gruppi “B” e “C” il corso ha una durata di 12 ore. \nPer iscrizioni compilare ed inviare il Modulo Corso Base Primo Soccorso Luglio 2016
URL:https://www.eco2000srl.it/formazione/corso-base-per-addetti-primo-soccorso-gruppi-a-e-b-c-prima-giornata/
CATEGORIES:Corso
END:VEVENT
BEGIN:VEVENT
DTSTART;TZID=UTC:20160623T000000
DTEND;TZID=UTC:20160623T000000
DTSTAMP:20260423T061434
CREATED:20200321T175201Z
LAST-MODIFIED:20200321T175201Z
UID:34-1466640000-1466640000@www.eco2000srl.it
SUMMARY:Corso Base per Addetti Primo Soccorso Gruppi A e B/C - Seconda Giornata
DESCRIPTION:Date svolgimento:\nGruppo A \n[checklist type=”eg. checked\, dotted\, arrowed” margin_bottom=”no”] \n\nMartedì 5 Luglio 2016 dalle ore 14.30 alle ore 18.30\nGiovedì 7 Luglio 2016 dalle ore 14.30 alle ore 18.30\nMartedì 12 Luglio 2016 dalle ore 14.30 alle ore 18.30\nGiovedì 14 Luglio 2016 dalle ore 14.30 alle ore 18.30\n\n[/checklist] \nGruppo B / C \n[checklist type=”eg. checked\, dotted\, arrowed” margin_bottom=”no”] \n\nMartedì 5 Luglio 2016 dalle ore 14.30 alle ore 18.30\nGiovedì 7 Luglio 2016 dalle ore 14.30 alle ore 18.30\nMartedì 12 Luglio 2016 dalle ore 14.30 alle ore 18.30\n\n[/checklist] \nIl D.Lgs. 81/08 e s.m.i. prevede che “Il datore di lavoro ha l’obbligo di designare preventivamente i lavoratori incaricati dell’attuazione delle misure di prevenzione incendi e lotta antincendio\, di evacuazione dei luoghi di lavoro in caso di pericolo grave e immediato\, di salvataggio\, di primo soccorso e\, comunque\, di gestione dell’emergenza periodico” (art. 18 com. 1\, D.Lgs. 81/2008 e s.m.i.). e che “I lavoratori incaricati dell’attività di prevenzione incendi e lotta antincendio\, di evacuazione dei luoghi di lavoro in caso di pericolo grave ed immediato\, di salvataggio\, di primo soccorso e\, comunque\, di gestione dell’emergenza devono ricevere un’adeguata e specifica formazione e un aggiornamento periodico” (art. 37 com. 9\, D.Lgs. 81/2008 e s.m.i.). \nIl Corso di Base riguarda coloro che ancora non hanno ricevuto nessuna formazione. \nLe aziende ovvero le unità produttive sono classificate\, tenuto conto della tipologia di attività svolta\, del numero dei lavoratori occupati e dei fattori di rischio\, in tre gruppi. \nPer le imprese rientranti nel gruppo “A” il corso ha una durata di 16 ore\, mentre per le imprese che rientrano nei gruppi “B” e “C” il corso ha una durata di 12 ore. \nPer iscrizioni compilare ed inviare il Modulo Corso Base Primo Soccorso Luglio 2016
URL:https://www.eco2000srl.it/formazione/corso-base-per-addetti-primo-soccorso-gruppi-a-e-b-c-seconda-giornata/
CATEGORIES:Corso
END:VEVENT
BEGIN:VEVENT
DTSTART;TZID=UTC:20160623T000000
DTEND;TZID=UTC:20160623T000000
DTSTAMP:20260423T061434
CREATED:20200321T175201Z
LAST-MODIFIED:20200321T175201Z
UID:35-1466640000-1466640000@www.eco2000srl.it
SUMMARY:Corso Base per Addetti Primo Soccorso Gruppi A e B/C - Terza Giornata
DESCRIPTION:Date svolgimento:\nGruppo A \n[checklist type=”eg. checked\, dotted\, arrowed” margin_bottom=”no”] \n\nMartedì 5 Luglio 2016 dalle ore 14.30 alle ore 18.30\nGiovedì 7 Luglio 2016 dalle ore 14.30 alle ore 18.30\nMartedì 12 Luglio 2016 dalle ore 14.30 alle ore 18.30\nGiovedì 14 Luglio 2016 dalle ore 14.30 alle ore 18.30\n\n[/checklist] \nGruppo B / C \n[checklist type=”eg. checked\, dotted\, arrowed” margin_bottom=”no”] \n\nMartedì 5 Luglio 2016 dalle ore 14.30 alle ore 18.30\nGiovedì 7 Luglio 2016 dalle ore 14.30 alle ore 18.30\nMartedì 12 Luglio 2016 dalle ore 14.30 alle ore 18.30\n\n[/checklist] \nIl D.Lgs. 81/08 e s.m.i. prevede che “Il datore di lavoro ha l’obbligo di designare preventivamente i lavoratori incaricati dell’attuazione delle misure di prevenzione incendi e lotta antincendio\, di evacuazione dei luoghi di lavoro in caso di pericolo grave e immediato\, di salvataggio\, di primo soccorso e\, comunque\, di gestione dell’emergenza periodico” (art. 18 com. 1\, D.Lgs. 81/2008 e s.m.i.). e che “I lavoratori incaricati dell’attività di prevenzione incendi e lotta antincendio\, di evacuazione dei luoghi di lavoro in caso di pericolo grave ed immediato\, di salvataggio\, di primo soccorso e\, comunque\, di gestione dell’emergenza devono ricevere un’adeguata e specifica formazione e un aggiornamento periodico” (art. 37 com. 9\, D.Lgs. 81/2008 e s.m.i.). \nIl Corso di Base riguarda coloro che ancora non hanno ricevuto nessuna formazione. \nLe aziende ovvero le unità produttive sono classificate\, tenuto conto della tipologia di attività svolta\, del numero dei lavoratori occupati e dei fattori di rischio\, in tre gruppi. \nPer le imprese rientranti nel gruppo “A” il corso ha una durata di 16 ore\, mentre per le imprese che rientrano nei gruppi “B” e “C” il corso ha una durata di 12 ore. \nPer iscrizioni compilare ed inviare il Modulo Corso Base Primo Soccorso Luglio 2016
URL:https://www.eco2000srl.it/formazione/corso-base-per-addetti-primo-soccorso-gruppi-a-e-b-c-terza-giornata/
CATEGORIES:Corso
END:VEVENT
BEGIN:VEVENT
DTSTART;TZID=UTC:20160623T000000
DTEND;TZID=UTC:20160623T000000
DTSTAMP:20260423T061434
CREATED:20200321T175201Z
LAST-MODIFIED:20200321T175201Z
UID:36-1466640000-1466640000@www.eco2000srl.it
SUMMARY:Corso Base per Addetti Primo Soccorso Gruppo A - Quarta Giornata
DESCRIPTION:Date svolgimento:\nGruppo A \n[checklist type=”eg. checked\, dotted\, arrowed” margin_bottom=”no”] \n\nMartedì 5 Luglio 2016 dalle ore 14.30 alle ore 18.30\nGiovedì 7 Luglio 2016 dalle ore 14.30 alle ore 18.30\nMartedì 12 Luglio 2016 dalle ore 14.30 alle ore 18.30\nGiovedì 14 Luglio 2016 dalle ore 14.30 alle ore 18.30\n\n[/checklist] \n  \nIl D.Lgs. 81/08 e s.m.i. prevede che “Il datore di lavoro ha l’obbligo di designare preventivamente i lavoratori incaricati dell’attuazione delle misure di prevenzione incendi e lotta antincendio\, di evacuazione dei luoghi di lavoro in caso di pericolo grave e immediato\, di salvataggio\, di primo soccorso e\, comunque\, di gestione dell’emergenza periodico” (art. 18 com. 1\, D.Lgs. 81/2008 e s.m.i.). e che “I lavoratori incaricati dell’attività di prevenzione incendi e lotta antincendio\, di evacuazione dei luoghi di lavoro in caso di pericolo grave ed immediato\, di salvataggio\, di primo soccorso e\, comunque\, di gestione dell’emergenza devono ricevere un’adeguata e specifica formazione e un aggiornamento periodico” (art. 37 com. 9\, D.Lgs. 81/2008 e s.m.i.). \nIl Corso di Base riguarda coloro che ancora non hanno ricevuto nessuna formazione. \nLe aziende ovvero le unità produttive sono classificate\, tenuto conto della tipologia di attività svolta\, del numero dei lavoratori occupati e dei fattori di rischio\, in tre gruppi. \nPer le imprese rientranti nel gruppo “A” il corso ha una durata di 16 ore. \nPer iscrizioni compilare ed inviare il Modulo Corso Base Primo Soccorso Luglio 2016
URL:https://www.eco2000srl.it/formazione/corso-base-per-addetti-primo-soccorso-gruppo-a-quarta-giornata/
CATEGORIES:Corso
END:VEVENT
BEGIN:VEVENT
DTSTART;TZID=UTC:20160627T000000
DTEND;TZID=UTC:20160627T000000
DTSTAMP:20260423T061434
CREATED:20200321T175201Z
LAST-MODIFIED:20200321T175201Z
UID:37-1466985600-1466985600@www.eco2000srl.it
SUMMARY:Corso Aggiornamento per Addetti Primo Soccorso Gruppi A e B/C
DESCRIPTION:La normativa prevede che il datore di lavoro designi uno o più lavoratori incaricati dei provvedimenti necessari in materia di pronto soccorso e di assistenza medica ed emergenza.\nI lavoratori incaricati dell’attività di prevenzione incendi e lotta antincendio\, di evacuazione dei luoghi di lavoro in caso di pericolo grave ed immediato\, di salvataggio\, di primo soccorso e\, comunque\, di gestione dell’emergenza devono ricevere un’adeguata e specifica formazione e un aggiornamento periodico (art. 37 com. 9\, D.Lgs. 81/2008 e s.m.i.). \nTali addetti devono ricevere un adeguato e specifico aggiornamento\, con cadenza triennale\, per mantenere\, al meglio le competenze relative al ruolo assegnato. \nPer le imprese rientranti nel gruppo “A” il corso di aggiornamento ha una durata di 6 ore\, mentre per le imprese che rientrano nei gruppi “B” e “C” il corso di aggiornamento ha una durata di 4 ore. \nPer iscrizioni compilare ed inviare il Modulo Corso Aggiornamento Primo Soccorso 05.07.16
URL:https://www.eco2000srl.it/formazione/corso-aggiornamento-per-addetti-primo-soccorso-gruppi-a-e-b-c/
CATEGORIES:Corso
END:VEVENT
BEGIN:VEVENT
DTSTART;TZID=UTC:20160627T000000
DTEND;TZID=UTC:20160627T000000
DTSTAMP:20260423T061434
CREATED:20200321T175202Z
LAST-MODIFIED:20200321T175202Z
UID:38-1466985600-1466985600@www.eco2000srl.it
SUMMARY:Corso di Formazione per Addetti alla Conduzione di Carrelli Elevatori Semoventi con Conducente a Bordo (Muletti) - Prima Giornata
DESCRIPTION:Gli addetti alla Conduzione  di Carrelli Elevatori Semoventi con Conducente a Bordo (Muletti) devono frequentare formazione specifica teorico – pratica della durata complessiva di 12 ore secondo quanto previsto dall’Accordo Stato\, Regioni e Province autonome Repertorio atti n. 53/CSR del 22 Febbraio 2012 ed in attuazione a quanto previsto dagli Art. 37 e Art. 136 comma 8 del D.Lgs. 81/08 e s.m.i.\nDate svolgimento: \nModulo giuridico – normativo (1 ora) e Modulo Tecnico (7 ore) \n[checklist type=”eg. checked\, dotted\, arrowed” margin_bottom=”no”] \n\nMartedì 28 Giugno 2016 dalle ore 14.30 alle ore 18.30\nVenerdì 1 Luglio 2016 dalle ore 14.30 alle ore 18.30\n\n[/checklist] \nModulo pratico (4 ore) \n[checklist type=”eg. checked\, dotted\, arrowed” margin_bottom=”no”] \n\nMartedì 5 Luglio 2016 dalle ore 14.00 alle ore 18.00\n\n[/checklist] \nPer iscrizioni compilare ed inviare il Modulo Corso Carrellisti Giugno / Luglio 2016
URL:https://www.eco2000srl.it/formazione/corso-di-formazione-per-addetti-alla-conduzione-di-carrelli-elevatori-semoventi-con-conducente-a-bordo-muletti-prima-giornata/
CATEGORIES:Corso
END:VEVENT
BEGIN:VEVENT
DTSTART;TZID=UTC:20160627T000000
DTEND;TZID=UTC:20160627T000000
DTSTAMP:20260423T061434
CREATED:20200321T175202Z
LAST-MODIFIED:20200321T175202Z
UID:39-1466985600-1466985600@www.eco2000srl.it
SUMMARY:Corso di Formazione per Addetti alla Conduzione di Carrelli Elevatori Semoventi con Conducente a Bordo (Muletti) - Seconda Giornata
DESCRIPTION:Gli addetti alla Conduzione  di Carrelli Elevatori Semoventi con Conducente a Bordo (Muletti) devono frequentare formazione specifica teorico – pratica della durata complessiva di 12 ore secondo quanto previsto dall’Accordo Stato\, Regioni e Province autonome Repertorio atti n. 53/CSR del 22 Febbraio 2012 ed in attuazione a quanto previsto dagli Art. 37 e Art. 136 comma 8 del D.Lgs. 81/08 e s.m.i.\nDate svolgimento: \nModulo giuridico – normativo (1 ora) e Modulo Tecnico (7 ore) \n[checklist type=”eg. checked\, dotted\, arrowed” margin_bottom=”no”] \n\nMartedì 28 Giugno 2016 dalle ore 14.30 alle ore 18.30\nVenerdì 1 Luglio 2016 dalle ore 14.30 alle ore 18.30\n\n[/checklist] \nModulo pratico (4 ore) \n[checklist type=”eg. checked\, dotted\, arrowed” margin_bottom=”no”] \n\nMartedì 5 Luglio 2016 dalle ore 14.00 alle ore 18.00\n\n[/checklist] \nPer iscrizioni compilare ed inviare il Modulo Corso Carrellisti Giugno / Luglio 2016
URL:https://www.eco2000srl.it/formazione/corso-di-formazione-per-addetti-alla-conduzione-di-carrelli-elevatori-semoventi-con-conducente-a-bordo-muletti-seconda-giornata/
CATEGORIES:Corso
END:VEVENT
BEGIN:VEVENT
DTSTART;TZID=UTC:20160627T000000
DTEND;TZID=UTC:20160627T000000
DTSTAMP:20260423T061434
CREATED:20200321T175202Z
LAST-MODIFIED:20200321T175202Z
UID:40-1466985600-1466985600@www.eco2000srl.it
SUMMARY:Corso di Formazione per Addetti alla Conduzione di Carrelli Elevatori Semoventi con Conducente a Bordo (Muletti) - Terza Giornata
DESCRIPTION:Gli addetti alla Conduzione  di Carrelli Elevatori Semoventi con Conducente a Bordo (Muletti) devono frequentare formazione specifica teorico – pratica della durata complessiva di 12 ore secondo quanto previsto dall’Accordo Stato\, Regioni e Province autonome Repertorio atti n. 53/CSR del 22 Febbraio 2012 ed in attuazione a quanto previsto dagli Art. 37 e Art. 136 comma 8 del D.Lgs. 81/08 e s.m.i.\nDate svolgimento: \nModulo giuridico – normativo (1 ora) e Modulo Tecnico (7 ore) \n[checklist type=”eg. checked\, dotted\, arrowed” margin_bottom=”no”] \n\nMartedì 28 Giugno 2016 dalle ore 14.30 alle ore 18.30\nVenerdì 1 Luglio 2016 dalle ore 14.30 alle ore 18.30\n\n[/checklist] \nModulo pratico (4 ore) \n[checklist type=”eg. checked\, dotted\, arrowed” margin_bottom=”no”] \n\nMartedì 5 Luglio 2016 dalle ore 14.00 alle ore 18.00\n\n[/checklist] \nPer iscrizioni compilare ed inviare il Modulo Corso Carrellisti Giugno / Luglio 2016
URL:https://www.eco2000srl.it/formazione/corso-di-formazione-per-addetti-alla-conduzione-di-carrelli-elevatori-semoventi-con-conducente-a-bordo-muletti-terza-giornata/
CATEGORIES:Corso
END:VEVENT
END:VCALENDAR