BEGIN:VCALENDAR
VERSION:2.0
PRODID:-//eco2000srl - ECPv6.15.17.1//NONSGML v1.0//EN
CALSCALE:GREGORIAN
METHOD:PUBLISH
X-ORIGINAL-URL:https://www.eco2000srl.it
X-WR-CALDESC:Eventi per eco2000srl
REFRESH-INTERVAL;VALUE=DURATION:PT1H
X-Robots-Tag:noindex
X-PUBLISHED-TTL:PT1H
BEGIN:VTIMEZONE
TZID:UTC
BEGIN:STANDARD
TZOFFSETFROM:+0000
TZOFFSETTO:+0000
TZNAME:UTC
DTSTART:20150101T000000
END:STANDARD
END:VTIMEZONE
BEGIN:VEVENT
DTSTART;TZID=UTC:20160502T000000
DTEND;TZID=UTC:20160502T000000
DTSTAMP:20260423T074625
CREATED:20200321T175200Z
LAST-MODIFIED:20200321T175200Z
UID:32-1462147200-1462147200@www.eco2000srl.it
SUMMARY:Corso di Aggiornamento per Addetti al Montaggio\, Smontaggio e Trasformazione  di Ponteggi
DESCRIPTION:Gli addetti al Montaggio\, Smontaggio e Trasformazione  di Ponteggi  devono frequentare un aggiornamento tecnico – pratico quadriennale (ogni 4 anni) secondo quanto previsto dall’Accordo Stato\, Regioni e Province autonome sui corsi di formazione per lavoratori addetti a lavori in quota (Allegato XXI D.Lgs. 81/08 e s.m.i.)\, in attuazione a quanto previsto dagli Art. 37 e Art. 136 comma 8 del D.Lgs. 81/08 e s.m.i.\nPer iscrizioni compilare ed inviare il Modulo Corso Agg. Ponteggi 14.05.2016
URL:https://www.eco2000srl.it/formazione/corso-di-aggiornamento-per-addetti-al-montaggio-smontaggio-e-trasformazione-di-ponteggi-2/
CATEGORIES:Corso
END:VEVENT
END:VCALENDAR