BEGIN:VCALENDAR
VERSION:2.0
PRODID:-//eco2000srl - ECPv6.15.17.1//NONSGML v1.0//EN
CALSCALE:GREGORIAN
METHOD:PUBLISH
X-WR-CALNAME:eco2000srl
X-ORIGINAL-URL:https://www.eco2000srl.it
X-WR-CALDESC:Eventi per eco2000srl
REFRESH-INTERVAL;VALUE=DURATION:PT1H
X-Robots-Tag:noindex
X-PUBLISHED-TTL:PT1H
BEGIN:VTIMEZONE
TZID:UTC
BEGIN:STANDARD
TZOFFSETFROM:+0000
TZOFFSETTO:+0000
TZNAME:UTC
DTSTART:20150101T000000
END:STANDARD
END:VTIMEZONE
BEGIN:VEVENT
DTSTART;TZID=UTC:20160421T000000
DTEND;TZID=UTC:20160421T000000
DTSTAMP:20260423T092021
CREATED:20200321T175159Z
LAST-MODIFIED:20200321T175159Z
UID:26-1461196800-1461196800@www.eco2000srl.it
SUMMARY:Corso Aggiornamento Addetti Primo Soccorso
DESCRIPTION:Il Testo Unico della Sicurezza prevede non solo la formazione ma anche un continuo aggiornamento relativo alla evoluzione della normativa e delle metodologie di prevenzione\, come richiesto dall’articolo 37 del D.Lgs. 81/08 e s.m.i..Per gli Addetti designati al Primo Soccorso è previsto un aggiornamento obbligatorio periodico con cadenza triennale  della durata di 4 ore per le aziende rientranti nei gruppi B e C e 6 ore per le aziende rientranti nel gruppo A. \nPer iscrizioni compilare ed inviare il Modulo Corso Agg. Primo Soccorso 28.04.16
URL:https://www.eco2000srl.it/formazione/corso-aggiornamento-addetti-primo-soccorso/
CATEGORIES:Corso
END:VEVENT
BEGIN:VEVENT
DTSTART;TZID=UTC:20160421T000000
DTEND;TZID=UTC:20160421T000000
DTSTAMP:20260423T092021
CREATED:20200321T175159Z
LAST-MODIFIED:20200321T175159Z
UID:27-1461196800-1461196800@www.eco2000srl.it
SUMMARY:Corso di Aggiornamento per Addetti al Montaggio\, Smontaggio e Trasformazione  di Ponteggi
DESCRIPTION:Gli addetti al Montaggio\, Smontaggio e Trasformazione  di Ponteggi  devono frequentare un aggiornamento tecnico – pratico quadriennale (ogni 4 anni) secondo quanto previsto dall’Accordo Stato\, Regioni e Province autonome sui corsi di formazione per lavoratori addetti a lavori in quota (Allegato XXI D.Lgs. 81/08 e s.m.i.)\, in attuazione a quanto previsto dagli Art. 37 e Art. 136 comma 8 del D.Lgs. 81/08 e s.m.i.\nPer iscrizioni compilare ed inviare il Modulo Corso Agg. Ponteggi 30.04.2016
URL:https://www.eco2000srl.it/formazione/corso-di-aggiornamento-per-addetti-al-montaggio-smontaggio-e-trasformazione-di-ponteggi/
CATEGORIES:Corso
END:VEVENT
BEGIN:VEVENT
DTSTART;TZID=UTC:20160429T000000
DTEND;TZID=UTC:20160429T000000
DTSTAMP:20260423T092021
CREATED:20200321T175200Z
LAST-MODIFIED:20200321T175200Z
UID:30-1461888000-1461888000@www.eco2000srl.it
SUMMARY:Corso Aggiornamento R.S.P.P. ALTO Rischio - Terza Giornata
DESCRIPTION:Date svolgimento:\n[checklist type=”eg. checked\, dotted\, arrowed” margin_bottom=”no”] \n\nMartedì 17 Maggio 2016 dalle ore 15.00 alle ore 19.00\nGiovedì 19 Maggio 2016 dalle ore 15.00 alle ore 18.00\nMartedì 24 Maggio 2016 dalle ore 15.00 alle ore 19.00\nGiovedì 26 Maggio 2016 dalle ore 15.00 alle ore 18.00\n\n[/checklist] \nIl Testo Unico della Sicurezza nel rispetto dei contenuti e delle articolazioni definiti mediante accordo in sede di Conferenza permanente per i rapporti tra lo Stato\, le regioni e le province autonome di Trento e Bolzano (Repertorio atti n. 223/csr del 21 dicembre 2011) pubblicato su G.U. n. 8 del 11 Gennaio 2012\, prevede che il datore di lavoro che intende svolgere i compiti propri del servizio di prevenzione e protezione dai rischi deve frequentare non solo corso di formazione base ma anche un aggiornamento quinquennale. \nL’aggiornamento ha periodicità quinquennale (cinque anni a decorrere dalla data di pubblicazione dell’accordo sopracitato) e ha durata di 14 ore per le attività con livello di rischio alto. \nPer iscrizioni compilare ed inviare il Modulo Agg. RSPP Maggio 2016 – Attività Rischio ALTO
URL:https://www.eco2000srl.it/formazione/corso-aggiornamento-r-s-p-p-alto-rischio-terza-giornata-3/
CATEGORIES:Corso
END:VEVENT
BEGIN:VEVENT
DTSTART;TZID=UTC:20160429T000000
DTEND;TZID=UTC:20160429T000000
DTSTAMP:20260423T092021
CREATED:20200321T175200Z
LAST-MODIFIED:20200321T175200Z
UID:31-1461888000-1461888000@www.eco2000srl.it
SUMMARY:Corso Aggiornamento R.S.P.P. ALTO Rischio - Quarta Giornata
DESCRIPTION:Date svolgimento:\n[checklist type=”eg. checked\, dotted\, arrowed” margin_bottom=”no”] \n\nMartedì 17 Maggio 2016 dalle ore 15.00 alle ore 19.00\nGiovedì 19 Maggio 2016 dalle ore 15.00 alle ore 18.00\nMartedì 24 Maggio 2016 dalle ore 15.00 alle ore 19.00\nGiovedì 26 Maggio 2016 dalle ore 15.00 alle ore 18.00\n\n[/checklist] \nIl Testo Unico della Sicurezza nel rispetto dei contenuti e delle articolazioni definiti mediante accordo in sede di Conferenza permanente per i rapporti tra lo Stato\, le regioni e le province autonome di Trento e Bolzano (Repertorio atti n. 223/csr del 21 dicembre 2011) pubblicato su G.U. n. 8 del 11 Gennaio 2012\, prevede che il datore di lavoro che intende svolgere i compiti propri del servizio di prevenzione e protezione dai rischi deve frequentare non solo corso di formazione base ma anche un aggiornamento quinquennale. \nL’aggiornamento ha periodicità quinquennale (cinque anni a decorrere dalla data di pubblicazione dell’accordo sopracitato) e ha durata di 14 ore per le attività con livello di rischio alto. \nPer iscrizioni compilare ed inviare il Modulo Agg. RSPP Maggio 2016 – Attività Rischio ALTO
URL:https://www.eco2000srl.it/formazione/corso-aggiornamento-r-s-p-p-alto-rischio-quarta-giornata-3/
CATEGORIES:Corso
END:VEVENT
BEGIN:VEVENT
DTSTART;TZID=UTC:20160429T000000
DTEND;TZID=UTC:20160429T000000
DTSTAMP:20260423T092021
CREATED:20200321T175200Z
LAST-MODIFIED:20200321T175200Z
UID:28-1461888000-1461888000@www.eco2000srl.it
SUMMARY:Corso Aggiornamento R.S.P.P. ALTO Rischio - Prima Giornata
DESCRIPTION:Date svolgimento:\n[checklist type=”eg. checked\, dotted\, arrowed” margin_bottom=”no”] \n\nMartedì 17 Maggio 2016 dalle ore 15.00 alle ore 19.00\nGiovedì 19 Maggio 2016 dalle ore 15.00 alle ore 18.00\nMartedì 24 Maggio 2016 dalle ore 15.00 alle ore 19.00\nGiovedì 26 Maggio 2016 dalle ore 15.00 alle ore 18.00\n\n[/checklist] \nIl Testo Unico della Sicurezza nel rispetto dei contenuti e delle articolazioni definiti mediante accordo in sede di Conferenza permanente per i rapporti tra lo Stato\, le regioni e le province autonome di Trento e Bolzano (Repertorio atti n. 223/csr del 21 dicembre 2011) pubblicato su G.U. n. 8 del 11 Gennaio 2012\, prevede che il datore di lavoro che intende svolgere i compiti propri del servizio di prevenzione e protezione dai rischi deve frequentare non solo corso di formazione base ma anche un aggiornamento quinquennale. \nL’aggiornamento ha periodicità quinquennale (cinque anni a decorrere dalla data di pubblicazione dell’accordo sopracitato) e ha durata di 14 ore per le attività con livello di rischio alto. \nPer iscrizioni compilare ed inviare il Modulo Agg. RSPP Maggio 2016 – Attività Rischio ALTO
URL:https://www.eco2000srl.it/formazione/corso-aggiornamento-r-s-p-p-alto-rischio-prima-giornata-3/
CATEGORIES:Corso
END:VEVENT
BEGIN:VEVENT
DTSTART;TZID=UTC:20160429T000000
DTEND;TZID=UTC:20160429T000000
DTSTAMP:20260423T092021
CREATED:20200321T175200Z
LAST-MODIFIED:20200321T175200Z
UID:29-1461888000-1461888000@www.eco2000srl.it
SUMMARY:Corso Aggiornamento R.S.P.P. ALTO Rischio - Seconda Giornata
DESCRIPTION:Date svolgimento:\n[checklist type=”eg. checked\, dotted\, arrowed” margin_bottom=”no”] \n\nMartedì 17 Maggio 2016 dalle ore 15.00 alle ore 19.00\nGiovedì 19 Maggio 2016 dalle ore 15.00 alle ore 18.00\nMartedì 24 Maggio 2016 dalle ore 15.00 alle ore 19.00\nGiovedì 26 Maggio 2016 dalle ore 15.00 alle ore 18.00\n\n[/checklist] \nIl Testo Unico della Sicurezza nel rispetto dei contenuti e delle articolazioni definiti mediante accordo in sede di Conferenza permanente per i rapporti tra lo Stato\, le regioni e le province autonome di Trento e Bolzano (Repertorio atti n. 223/csr del 21 dicembre 2011) pubblicato su G.U. n. 8 del 11 Gennaio 2012\, prevede che il datore di lavoro che intende svolgere i compiti propri del servizio di prevenzione e protezione dai rischi deve frequentare non solo corso di formazione base ma anche un aggiornamento quinquennale. \nL’aggiornamento ha periodicità quinquennale (cinque anni a decorrere dalla data di pubblicazione dell’accordo sopracitato) e ha durata di 14 ore per le attività con livello di rischio alto. \nPer iscrizioni compilare ed inviare il Modulo Agg. RSPP Maggio 2016 – Attività Rischio ALTO
URL:https://www.eco2000srl.it/formazione/corso-aggiornamento-r-s-p-p-alto-rischio-seconda-giornata-3/
CATEGORIES:Corso
END:VEVENT
END:VCALENDAR