BEGIN:VCALENDAR
VERSION:2.0
PRODID:-//eco2000srl - ECPv6.15.17.1//NONSGML v1.0//EN
CALSCALE:GREGORIAN
METHOD:PUBLISH
X-WR-CALNAME:eco2000srl
X-ORIGINAL-URL:https://www.eco2000srl.it
X-WR-CALDESC:Eventi per eco2000srl
REFRESH-INTERVAL;VALUE=DURATION:PT1H
X-Robots-Tag:noindex
X-PUBLISHED-TTL:PT1H
BEGIN:VTIMEZONE
TZID:UTC
BEGIN:STANDARD
TZOFFSETFROM:+0000
TZOFFSETTO:+0000
TZNAME:UTC
DTSTART:20150101T000000
END:STANDARD
END:VTIMEZONE
BEGIN:VEVENT
DTSTART;TZID=UTC:20160318T000000
DTEND;TZID=UTC:20160318T000000
DTSTAMP:20260423T105827
CREATED:20200321T175158Z
LAST-MODIFIED:20200321T175158Z
UID:20-1458259200-1458259200@www.eco2000srl.it
SUMMARY:Corso Aggiornamento R.S.P.P. ALTO Rischio - Prima Giornata
DESCRIPTION:Date svolgimento:\n[checklist type=”eg. checked\, dotted\, arrowed” margin_bottom=”no”] \n\nMartedì 12 Aprile 2016 dalle ore 15.00 alle ore 19.00\nGiovedì 14 Aprile 2016 dalle ore 15.00 alle ore 18.00\nMartedì 19 Aprile 2016 dalle ore 15.00 alle ore 19.00\nGiovedì 21 Aprile 2016 dalle ore 15.00 alle ore 18.00\n\n[/checklist] \nIl Testo Unico della Sicurezza nel rispetto dei contenuti e delle articolazioni definiti mediante accordo in sede di Conferenza permanente per i rapporti tra lo Stato\, le regioni e le province autonome di Trento e Bolzano (Repertorio atti n. 223/csr del 21 dicembre 2011) pubblicato su G.U. n. 8 del 11 Gennaio 2012\, prevede che il datore di lavoro che intende svolgere i compiti propri del servizio di prevenzione e protezione dai rischi deve frequentare non solo corso di formazione base ma anche un aggiornamento quinquennale. \nL’aggiornamento ha periodicità quinquennale (cinque anni a decorrere dalla data di pubblicazione dell’accordo sopracitato) e ha durata di 14 ore per le attività con livello di rischio alto. \nPer iscrizioni compilare ed inviare il Modulo Agg. RSPP Aprile 2016 – Attività Rischio ALTO
URL:https://www.eco2000srl.it/formazione/corso-aggiornamento-r-s-p-p-alto-rischio-prima-giornata-2/
CATEGORIES:Corso
END:VEVENT
BEGIN:VEVENT
DTSTART;TZID=UTC:20160318T000000
DTEND;TZID=UTC:20160318T000000
DTSTAMP:20260423T105827
CREATED:20200321T175158Z
LAST-MODIFIED:20200321T175158Z
UID:21-1458259200-1458259200@www.eco2000srl.it
SUMMARY:Corso Aggiornamento R.S.P.P. ALTO Rischio - Seconda Giornata
DESCRIPTION:Date svolgimento:\n[checklist type=”eg. checked\, dotted\, arrowed” margin_bottom=”no”] \n\nMartedì 12 Aprile 2016 dalle ore 15.00 alle ore 19.00\nGiovedì 14 Aprile 2016 dalle ore 15.00 alle ore 18.00\nMartedì 19 Aprile 2016 dalle ore 15.00 alle ore 19.00\nGiovedì 21 Aprile 2016 dalle ore 15.00 alle ore 18.00\n\n[/checklist] \nIl Testo Unico della Sicurezza nel rispetto dei contenuti e delle articolazioni definiti mediante accordo in sede di Conferenza permanente per i rapporti tra lo Stato\, le regioni e le province autonome di Trento e Bolzano (Repertorio atti n. 223/csr del 21 dicembre 2011) pubblicato su G.U. n. 8 del 11 Gennaio 2012\, prevede che il datore di lavoro che intende svolgere i compiti propri del servizio di prevenzione e protezione dai rischi deve frequentare non solo corso di formazione base ma anche un aggiornamento quinquennale. \nL’aggiornamento ha periodicità quinquennale (cinque anni a decorrere dalla data di pubblicazione dell’accordo sopracitato) e ha durata di 14 ore per le attività con livello di rischio alto. \nPer iscrizioni compilare ed inviare il Modulo Agg. RSPP Aprile 2016 – Attività Rischio ALTO
URL:https://www.eco2000srl.it/formazione/corso-aggiornamento-r-s-p-p-alto-rischio-seconda-giornata-2/
CATEGORIES:Corso
END:VEVENT
BEGIN:VEVENT
DTSTART;TZID=UTC:20160318T000000
DTEND;TZID=UTC:20160318T000000
DTSTAMP:20260423T105827
CREATED:20200321T175158Z
LAST-MODIFIED:20200321T175158Z
UID:22-1458259200-1458259200@www.eco2000srl.it
SUMMARY:Corso Aggiornamento R.S.P.P. ALTO Rischio - Terza Giornata
DESCRIPTION:Date svolgimento:\n[checklist type=”eg. checked\, dotted\, arrowed” margin_bottom=”no”] \n\nMartedì 12 Aprile 2016 dalle ore 15.00 alle ore 19.00\nGiovedì 14 Aprile 2016 dalle ore 15.00 alle ore 18.00\nMartedì 19 Aprile 2016 dalle ore 15.00 alle ore 19.00\nGiovedì 21 Aprile 2016 dalle ore 15.00 alle ore 18.00\n\n[/checklist] \nIl Testo Unico della Sicurezza nel rispetto dei contenuti e delle articolazioni definiti mediante accordo in sede di Conferenza permanente per i rapporti tra lo Stato\, le regioni e le province autonome di Trento e Bolzano (Repertorio atti n. 223/csr del 21 dicembre 2011) pubblicato su G.U. n. 8 del 11 Gennaio 2012\, prevede che il datore di lavoro che intende svolgere i compiti propri del servizio di prevenzione e protezione dai rischi deve frequentare non solo corso di formazione base ma anche un aggiornamento quinquennale. \nL’aggiornamento ha periodicità quinquennale (cinque anni a decorrere dalla data di pubblicazione dell’accordo sopracitato) e ha durata di 14 ore per le attività con livello di rischio alto. \nPer iscrizioni compilare ed inviare il Modulo Agg. RSPP Aprile 2016 – Attività Rischio ALTO
URL:https://www.eco2000srl.it/formazione/corso-aggiornamento-r-s-p-p-alto-rischio-terza-giornata-2/
CATEGORIES:Corso
END:VEVENT
BEGIN:VEVENT
DTSTART;TZID=UTC:20160318T000000
DTEND;TZID=UTC:20160318T000000
DTSTAMP:20260423T105827
CREATED:20200321T175159Z
LAST-MODIFIED:20200321T175159Z
UID:23-1458259200-1458259200@www.eco2000srl.it
SUMMARY:Corso Aggiornamento R.S.P.P. ALTO Rischio - Quarta Giornata
DESCRIPTION:Date svolgimento:\n[checklist type=”eg. checked\, dotted\, arrowed” margin_bottom=”no”] \n\nMartedì 12 Aprile 2016 dalle ore 15.00 alle ore 19.00\nGiovedì 14 Aprile 2016 dalle ore 15.00 alle ore 18.00\nMartedì 19 Aprile 2016 dalle ore 15.00 alle ore 19.00\nGiovedì 21 Aprile 2016 dalle ore 15.00 alle ore 18.00\n\n[/checklist] \nIl Testo Unico della Sicurezza nel rispetto dei contenuti e delle articolazioni definiti mediante accordo in sede di Conferenza permanente per i rapporti tra lo Stato\, le regioni e le province autonome di Trento e Bolzano (Repertorio atti n. 223/csr del 21 dicembre 2011) pubblicato su G.U. n. 8 del 11 Gennaio 2012\, prevede che il datore di lavoro che intende svolgere i compiti propri del servizio di prevenzione e protezione dai rischi deve frequentare non solo corso di formazione base ma anche un aggiornamento quinquennale. \nL’aggiornamento ha periodicità quinquennale (cinque anni a decorrere dalla data di pubblicazione dell’accordo sopracitato) e ha durata di 14 ore per le attività con livello di rischio alto. \nPer iscrizioni compilare ed inviare il Modulo Agg. RSPP Aprile 2016 – Attività Rischio ALTO
URL:https://www.eco2000srl.it/formazione/corso-aggiornamento-r-s-p-p-alto-rischio-quarta-giornata-2/
CATEGORIES:Corso
END:VEVENT
BEGIN:VEVENT
DTSTART;TZID=UTC:20160329T000000
DTEND;TZID=UTC:20160329T000000
DTSTAMP:20260423T105827
CREATED:20200321T175159Z
LAST-MODIFIED:20200321T175159Z
UID:24-1459209600-1459209600@www.eco2000srl.it
SUMMARY:Corso Aggiornamento R.S.P.P. BASSO Rischio - Prima Giornata
DESCRIPTION:Date svolgimento:\n[checklist type=”eg. checked\, dotted\, arrowed” margin_bottom=”no”] \n\nLunedì 18 Aprile 2016 dalle ore 15.00 alle ore 18.00\nMercoledì 20 Aprile 2016 dalle ore 15.00 alle ore 18.00\n\n[/checklist] \nIl Testo Unico della Sicurezza nel rispetto dei contenuti e delle articolazioni definiti mediante accordo in sede di Conferenza permanente per i rapporti tra lo Stato\, le regioni e le province autonome di Trento e Bolzano (Repertorio atti n. 223/csr del 21 dicembre 2011) pubblicato su G.U. n. 8 del 11 Gennaio 2012\, prevede che il datore di lavoro che intende svolgere i compiti propri del servizio di prevenzione e protezione dai rischi deve frequentare non solo corso di formazione base ma anche un aggiornamento quinquennale. \nL’aggiornamento ha periodicità quinquennale (cinque anni a decorrere dalla data di pubblicazione dell’accordo sopracitato) e ha durata di 6 ore per le attività con livello di rischio basso. \nPer iscrizioni compilare ed inviare il Modulo Agg. RSPP Aprile 2016 – Attività Rischio BASSO
URL:https://www.eco2000srl.it/formazione/corso-aggiornamento-r-s-p-p-basso-rischio-prima-giornata-2/
CATEGORIES:Corso
END:VEVENT
BEGIN:VEVENT
DTSTART;TZID=UTC:20160329T000000
DTEND;TZID=UTC:20160329T000000
DTSTAMP:20260423T105827
CREATED:20200321T175159Z
LAST-MODIFIED:20200321T175159Z
UID:25-1459209600-1459209600@www.eco2000srl.it
SUMMARY:Corso Aggiornamento R.S.P.P. BASSO Rischio - Seconda Giornata
DESCRIPTION:Date svolgimento:\n[checklist type=”eg. checked\, dotted\, arrowed” margin_bottom=”no”] \n\nLunedì 18 Aprile 2016 dalle ore 15.00 alle ore 18.00\nMercoledì 20 Aprile 2016 dalle ore 15.00 alle ore 18.00\n\n[/checklist] \nIl Testo Unico della Sicurezza nel rispetto dei contenuti e delle articolazioni definiti mediante accordo in sede di Conferenza permanente per i rapporti tra lo Stato\, le regioni e le province autonome di Trento e Bolzano (Repertorio atti n. 223/csr del 21 dicembre 2011) pubblicato su G.U. n. 8 del 11 Gennaio 2012\, prevede che il datore di lavoro che intende svolgere i compiti propri del servizio di prevenzione e protezione dai rischi deve frequentare non solo corso di formazione base ma anche un aggiornamento quinquennale. \nL’aggiornamento ha periodicità quinquennale (cinque anni a decorrere dalla data di pubblicazione dell’accordo sopracitato) e ha durata di 6 ore per le attività con livello di rischio basso. \nPer iscrizioni compilare ed inviare il Modulo Agg. RSPP Aprile 2016 – Attività Rischio BASSO
URL:https://www.eco2000srl.it/formazione/corso-aggiornamento-r-s-p-p-basso-rischio-seconda-giornata-2/
CATEGORIES:Corso
END:VEVENT
END:VCALENDAR