BEGIN:VCALENDAR
VERSION:2.0
PRODID:-//eco2000srl - ECPv6.15.17.1//NONSGML v1.0//EN
CALSCALE:GREGORIAN
METHOD:PUBLISH
X-WR-CALNAME:eco2000srl
X-ORIGINAL-URL:https://www.eco2000srl.it
X-WR-CALDESC:Eventi per eco2000srl
REFRESH-INTERVAL;VALUE=DURATION:PT1H
X-Robots-Tag:noindex
X-PUBLISHED-TTL:PT1H
BEGIN:VTIMEZONE
TZID:UTC
BEGIN:STANDARD
TZOFFSETFROM:+0000
TZOFFSETTO:+0000
TZNAME:UTC
DTSTART:20150101T000000
END:STANDARD
END:VTIMEZONE
BEGIN:VEVENT
DTSTART;TZID=UTC:20160223T000000
DTEND;TZID=UTC:20160223T000000
DTSTAMP:20260423T122921
CREATED:20200321T175156Z
LAST-MODIFIED:20200321T175156Z
UID:13-1456185600-1456185600@www.eco2000srl.it
SUMMARY:Corso Aggiornamento R.L.S.
DESCRIPTION:Il Testo Unico della Sicurezza prevede non solo la formazione ma anche un continuo aggiornamento relativo alla evoluzione della normativa e delle metodologie di prevenzione\, come richiesto dall’articolo 37 del D.Lgs. 81/08 e s.m.i..Per il Rappresentante dei Lavoratori per la Sicurezza (R.L.S.) è previsto un obbligo di aggiornamento periodico con cadenza annuale con durata che non può essere inferiore a 4 ore annue per le imprese che occupano dai 15 ai 50 lavoratori.\nBenchè non sia obbligatorio per legge un corso di aggiornamento è consigliato anche per gli R.L.S. delle imprese che occupano meno di 15 lavoratori\, anche alla luce delle disposizioni normative emanate dal Ministero del Lavoro secondo cui la formazione dei lavoratori e dei loro rappresentanti deve essere periodicamente repetuta. \nPer iscrizioni compilare ed inviare il Modulo Corso Agg. RLS 09.03.2016
URL:https://www.eco2000srl.it/formazione/corso-aggiornamento-r-l-s/
CATEGORIES:Corso
END:VEVENT
BEGIN:VEVENT
DTSTART;TZID=UTC:20160229T000000
DTEND;TZID=UTC:20160229T000000
DTSTAMP:20260423T122921
CREATED:20200321T175156Z
LAST-MODIFIED:20200321T175156Z
UID:14-1456704000-1456704000@www.eco2000srl.it
SUMMARY:Corso Aggiornamento R.S.P.P. BASSO Rischio - Prima Giornata
DESCRIPTION:Date svolgimento:\n[checklist type=”eg. checked\, dotted\, arrowed” margin_bottom=”no”] \n\nLunedì 21 Marzo 2016 dalle ore 15.00 alle ore 18.00\nMercoledì 23 Marzo 2016 dalle ore 15.00 alle ore 18.00\n\n[/checklist] \nIl Testo Unico della Sicurezza nel rispetto dei contenuti e delle articolazioni definiti mediante accordo in sede di Conferenza permanente per i rapporti tra lo Stato\, le regioni e le province autonome di Trento e Bolzano (Repertorio atti n. 223/csr del 21 dicembre 2011) pubblicato su G.U. n. 8 del 11 Gennaio 2012\, prevede che il datore di lavoro che intende svolgere i compiti propri del servizio di prevenzione e protezione dai rischi deve frequentare non solo corso di formazione base ma anche un aggiornamento quinquennale. \nL’aggiornamento ha periodicità quinquennale (cinque anni a decorrere dalla data di pubblicazione dell’accordo sopracitato) e ha durata di 6 ore per le attività con livello di rischio basso. \nPer iscrizioni compilare ed inviare il Modulo Agg. RSPP Marzo 2016 – Attività Rischio BASSO
URL:https://www.eco2000srl.it/formazione/corso-aggiornamento-r-s-p-p-basso-rischio-prima-giornata/
CATEGORIES:Corso
END:VEVENT
BEGIN:VEVENT
DTSTART;TZID=UTC:20160229T000000
DTEND;TZID=UTC:20160229T000000
DTSTAMP:20260423T122921
CREATED:20200321T175156Z
LAST-MODIFIED:20200321T175156Z
UID:15-1456704000-1456704000@www.eco2000srl.it
SUMMARY:Corso Aggiornamento R.S.P.P. ALTO Rischio - Prima Giornata
DESCRIPTION:Date svolgimento:\n[checklist type=”eg. checked\, dotted\, arrowed” margin_bottom=”no”] \n\nMartedì 22 Marzo 2016 dalle ore 15.00 alle ore 19.00\nGiovedì 24 Marzo 2016 dalle ore 15.00 alle ore 18.00\nMartedì 29 Marzo 2016 dalle ore 15.00 alle ore 19.00\nGiovedì 31 Marzo 2016 dalle ore 15.00 alle ore 18.00\n\n[/checklist] \nIl Testo Unico della Sicurezza nel rispetto dei contenuti e delle articolazioni definiti mediante accordo in sede di Conferenza permanente per i rapporti tra lo Stato\, le regioni e le province autonome di Trento e Bolzano (Repertorio atti n. 223/csr del 21 dicembre 2011) pubblicato su G.U. n. 8 del 11 Gennaio 2012\, prevede che il datore di lavoro che intende svolgere i compiti propri del servizio di prevenzione e protezione dai rischi deve frequentare non solo corso di formazione base ma anche un aggiornamento quinquennale. \nL’aggiornamento ha periodicità quinquennale (cinque anni a decorrere dalla data di pubblicazione dell’accordo sopracitato) e ha durata di 14 ore per le attività con livello di rischio alto. \nPer iscrizioni compilare ed inviare il Modulo Agg. RSPP Marzo 2016 – Attività Rischio ALTO
URL:https://www.eco2000srl.it/formazione/corso-aggiornamento-r-s-p-p-alto-rischio-prima-giornata/
CATEGORIES:Corso
END:VEVENT
END:VCALENDAR